BEGIN:VCALENDAR
VERSION:2.0
PRODID:-//The Lodge - ECPv6.15.16.1//NONSGML v1.0//EN
CALSCALE:GREGORIAN
METHOD:PUBLISH
X-WR-CALNAME:The Lodge
X-ORIGINAL-URL:https://springlodge1174.com
X-WR-CALDESC:Events for The Lodge
REFRESH-INTERVAL;VALUE=DURATION:PT1H
X-Robots-Tag:noindex
X-PUBLISHED-TTL:PT1H
BEGIN:VTIMEZONE
TZID:America/Chicago
BEGIN:DAYLIGHT
TZOFFSETFROM:-0600
TZOFFSETTO:-0500
TZNAME:CDT
DTSTART:20230312T080000
END:DAYLIGHT
BEGIN:STANDARD
TZOFFSETFROM:-0500
TZOFFSETTO:-0600
TZNAME:CST
DTSTART:20231105T070000
END:STANDARD
BEGIN:DAYLIGHT
TZOFFSETFROM:-0600
TZOFFSETTO:-0500
TZNAME:CDT
DTSTART:20240310T080000
END:DAYLIGHT
BEGIN:STANDARD
TZOFFSETFROM:-0500
TZOFFSETTO:-0600
TZNAME:CST
DTSTART:20241103T070000
END:STANDARD
BEGIN:DAYLIGHT
TZOFFSETFROM:-0600
TZOFFSETTO:-0500
TZNAME:CDT
DTSTART:20250309T080000
END:DAYLIGHT
BEGIN:STANDARD
TZOFFSETFROM:-0500
TZOFFSETTO:-0600
TZNAME:CST
DTSTART:20251102T070000
END:STANDARD
END:VTIMEZONE
BEGIN:VTIMEZONE
TZID:UTC
BEGIN:STANDARD
TZOFFSETFROM:+0000
TZOFFSETTO:+0000
TZNAME:UTC
DTSTART:20230101T000000
END:STANDARD
END:VTIMEZONE
BEGIN:VEVENT
DTSTART;TZID=America/Chicago:20240801T180000
DTEND;TZID=America/Chicago:20240801T203000
DTSTAMP:20260425T125804
CREATED:20240717T134603Z
LAST-MODIFIED:20240717T134603Z
UID:4428-1722535200-1722544200@springlodge1174.com
SUMMARY:Called Meeting - Entered Apprentice Degree
DESCRIPTION:Meal at 6 PM. Degree at 7 PM.
URL:https://springlodge1174.com/event/called-meeting-entered-apprentice-degree/
END:VEVENT
BEGIN:VEVENT
DTSTART;TZID=America/Chicago:20240806T180000
DTEND;TZID=America/Chicago:20240806T210000
DTSTAMP:20260425T125804
CREATED:20240728T234738Z
LAST-MODIFIED:20240728T234738Z
UID:4605-1722967200-1722978000@springlodge1174.com
SUMMARY:Called Meeting Fellowcraft Degree
DESCRIPTION:Meal at 6 PM \nMeeting at 7 PM
URL:https://springlodge1174.com/event/called-meeting-fellowcraft-degree-2/
END:VEVENT
BEGIN:VEVENT
DTSTART;TZID=UTC:20240808T180000
DTEND;TZID=UTC:20240808T200000
DTSTAMP:20260425T125804
CREATED:20240728T234827Z
LAST-MODIFIED:20240728T234853Z
UID:4607-1723140000-1723147200@springlodge1174.com
SUMMARY:Lodge Invasion - Tomball Lodge 1096
DESCRIPTION:Meet us at Tomball Lodge 1096
URL:https://springlodge1174.com/event/lodge-invasion-tomball-lodge-1096/
END:VEVENT
BEGIN:VEVENT
DTSTART;TZID=America/Chicago:20240813T170000
DTEND;TZID=America/Chicago:20240813T190000
DTSTAMP:20260425T125804
CREATED:20240717T134244Z
LAST-MODIFIED:20240805T221914Z
UID:4424-1723568400-1723575600@springlodge1174.com
SUMMARY:Officers Meeting
DESCRIPTION:The meeting starts at 6:30 PM. Expecting Officers/Committee Chair to submit their report to WM and Bro. Secretary via email or hard copy.
URL:https://springlodge1174.com/event/july-officers-meeting/
END:VEVENT
BEGIN:VEVENT
DTSTART;TZID=America/Chicago:20240816T180000
DTEND;TZID=America/Chicago:20240816T203000
DTSTAMP:20260425T125804
CREATED:20240717T134433Z
LAST-MODIFIED:20240805T221802Z
UID:4426-1723831200-1723840200@springlodge1174.com
SUMMARY:Stated Meeting
DESCRIPTION:The open portion starts at 7:00 PM. \nThe closed portion starts at 7:30 PM. \nMeal at 6:00 PM.
URL:https://springlodge1174.com/event/july-called-meeting-to-conduct-business/
END:VEVENT
BEGIN:VEVENT
DTSTART;TZID=UTC:20240819T080000
DTEND;TZID=UTC:20240819T170000
DTSTAMP:20260425T125804
CREATED:20240819T002319Z
LAST-MODIFIED:20240819T002319Z
UID:4644-1724054400-1724086800@springlodge1174.com
SUMMARY:Called Meeting: Master Mason Lodge. Master Mason Degree
DESCRIPTION:The meeting starts at 7:00 PM. Meal at 6:00 PM. Meal: Smoke Sausage and Hashbrown.
URL:https://springlodge1174.com/event/called-meeting-master-mason-lodge-master-mason-degree/
END:VEVENT
BEGIN:VEVENT
DTSTART;TZID=America/Chicago:20240820T180000
DTEND;TZID=America/Chicago:20240820T190000
DTSTAMP:20260425T125804
CREATED:20240804T185205Z
LAST-MODIFIED:20240804T185354Z
UID:4615-1724176800-1724180400@springlodge1174.com
SUMMARY:Committee Meeting
DESCRIPTION:Meeting Start at 6:00 PM. \n 
URL:https://springlodge1174.com/event/committee-meeting/
END:VEVENT
BEGIN:VEVENT
DTSTART;TZID=America/Chicago:20240822T140000
DTEND;TZID=America/Chicago:20240822T170000
DTSTAMP:20260425T125804
CREATED:20240819T012458Z
LAST-MODIFIED:20240819T012458Z
UID:4646-1724335200-1724346000@springlodge1174.com
SUMMARY:Blood Drive
DESCRIPTION:Blood drive 2-5pm
URL:https://springlodge1174.com/event/blood-drive/
END:VEVENT
BEGIN:VEVENT
DTSTART;TZID=America/Chicago:20240822T180000
DTEND;TZID=America/Chicago:20240822T193000
DTSTAMP:20260425T125804
CREATED:20240819T001928Z
LAST-MODIFIED:20240819T001928Z
UID:4638-1724349600-1724355000@springlodge1174.com
SUMMARY:Called Meeting: Fellowcraft Lodge. Esoteric Turn-In
DESCRIPTION:The meeting starts at 7:00 PM. Meal at 6:00 PM. Meal: Hamburger with French Fries and Salad.
URL:https://springlodge1174.com/event/called-meeting-fellowcraft-lodge-esoteric-turn-in/
END:VEVENT
BEGIN:VEVENT
DTSTART;TZID=America/Chicago:20240823T183000
DTEND;TZID=America/Chicago:20240823T203000
DTSTAMP:20260425T125804
CREATED:20240819T002052Z
LAST-MODIFIED:20240819T002052Z
UID:4640-1724437800-1724445000@springlodge1174.com
SUMMARY:Date Night at Woodson's Tap
DESCRIPTION:Date Night at Woodson’s Tap (4127 Riley Fuzzel Rd. Spring TX.). Plan on arriving at 6:30 PM so we can get a table all together.
URL:https://springlodge1174.com/event/date-night-at-woodsons-tap/
END:VEVENT
BEGIN:VEVENT
DTSTART;TZID=America/Chicago:20240829T180000
DTEND;TZID=America/Chicago:20240829T200000
DTSTAMP:20260425T125804
CREATED:20240812T010042Z
LAST-MODIFIED:20240812T010042Z
UID:4632-1724954400-1724961600@springlodge1174.com
SUMMARY:Called Meeting: EA Floor School
DESCRIPTION:The meeting starts at 7:00 PM. Meal at 6:00 PM. Meal: Rainbow Girls will provide the meal.
URL:https://springlodge1174.com/event/called-meeting-ea-floor-school/
END:VEVENT
END:VCALENDAR