BEGIN:VCALENDAR
VERSION:2.0
PRODID:-//The Lodge - ECPv6.15.16.1//NONSGML v1.0//EN
CALSCALE:GREGORIAN
METHOD:PUBLISH
X-WR-CALNAME:The Lodge
X-ORIGINAL-URL:https://springlodge1174.com
X-WR-CALDESC:Events for The Lodge
REFRESH-INTERVAL;VALUE=DURATION:PT1H
X-Robots-Tag:noindex
X-PUBLISHED-TTL:PT1H
BEGIN:VTIMEZONE
TZID:America/Chicago
BEGIN:DAYLIGHT
TZOFFSETFROM:-0600
TZOFFSETTO:-0500
TZNAME:CDT
DTSTART:20230312T080000
END:DAYLIGHT
BEGIN:STANDARD
TZOFFSETFROM:-0500
TZOFFSETTO:-0600
TZNAME:CST
DTSTART:20231105T070000
END:STANDARD
BEGIN:DAYLIGHT
TZOFFSETFROM:-0600
TZOFFSETTO:-0500
TZNAME:CDT
DTSTART:20240310T080000
END:DAYLIGHT
BEGIN:STANDARD
TZOFFSETFROM:-0500
TZOFFSETTO:-0600
TZNAME:CST
DTSTART:20241103T070000
END:STANDARD
BEGIN:DAYLIGHT
TZOFFSETFROM:-0600
TZOFFSETTO:-0500
TZNAME:CDT
DTSTART:20250309T080000
END:DAYLIGHT
BEGIN:STANDARD
TZOFFSETFROM:-0500
TZOFFSETTO:-0600
TZNAME:CST
DTSTART:20251102T070000
END:STANDARD
END:VTIMEZONE
BEGIN:VEVENT
DTSTART;TZID=America/Chicago:20240604T180000
DTEND;TZID=America/Chicago:20240604T210000
DTSTAMP:20260425T160558
CREATED:20240527T141913Z
LAST-MODIFIED:20240527T141942Z
UID:4402-1717524000-1717534800@springlodge1174.com
SUMMARY:Called Meeting: Master Mason Degree
DESCRIPTION:Meal at 6 PM; Degree at 7 PM
URL:https://springlodge1174.com/event/called-meeting-master-mason-degree/
END:VEVENT
BEGIN:VEVENT
DTSTART;TZID=America/Chicago:20240613T180000
DTEND;TZID=America/Chicago:20240613T200000
DTSTAMP:20260425T160558
CREATED:20240315T174856Z
LAST-MODIFIED:20240315T174856Z
UID:4217-1718301600-1718308800@springlodge1174.com
SUMMARY:Golden Trowel Awards Night
DESCRIPTION:The ceremony starts at 7 PM. Meal at 6:00 PM. Meal: TBD.
URL:https://springlodge1174.com/event/golden-trowel-awards-night/
END:VEVENT
BEGIN:VEVENT
DTSTART;TZID=America/Chicago:20240618T180000
DTEND;TZID=America/Chicago:20240618T190000
DTSTAMP:20260425T160558
CREATED:20240527T142054Z
LAST-MODIFIED:20240527T142054Z
UID:4405-1718733600-1718737200@springlodge1174.com
SUMMARY:June Officer Meeting
DESCRIPTION:Meal at 6 PM ; Meeting at 6:30 PM
URL:https://springlodge1174.com/event/june-officer-meeting/
END:VEVENT
BEGIN:VEVENT
DTSTART;TZID=America/Chicago:20240621T180000
DTEND;TZID=America/Chicago:20240621T213000
DTSTAMP:20260425T160558
CREATED:20240527T142144Z
LAST-MODIFIED:20240527T142144Z
UID:4407-1718992800-1719005400@springlodge1174.com
SUMMARY:June Stated Meeting
DESCRIPTION:Meal at 6 PM ; Meeting at 7 PM
URL:https://springlodge1174.com/event/june-stated-meeting/
END:VEVENT
END:VCALENDAR