BEGIN:VCALENDAR
VERSION:2.0
PRODID:-//The Lodge - ECPv6.15.16.1//NONSGML v1.0//EN
CALSCALE:GREGORIAN
METHOD:PUBLISH
X-WR-CALNAME:The Lodge
X-ORIGINAL-URL:https://springlodge1174.com
X-WR-CALDESC:Events for The Lodge
REFRESH-INTERVAL;VALUE=DURATION:PT1H
X-Robots-Tag:noindex
X-PUBLISHED-TTL:PT1H
BEGIN:VTIMEZONE
TZID:America/Chicago
BEGIN:DAYLIGHT
TZOFFSETFROM:-0600
TZOFFSETTO:-0500
TZNAME:CDT
DTSTART:20230312T080000
END:DAYLIGHT
BEGIN:STANDARD
TZOFFSETFROM:-0500
TZOFFSETTO:-0600
TZNAME:CST
DTSTART:20231105T070000
END:STANDARD
BEGIN:DAYLIGHT
TZOFFSETFROM:-0600
TZOFFSETTO:-0500
TZNAME:CDT
DTSTART:20240310T080000
END:DAYLIGHT
BEGIN:STANDARD
TZOFFSETFROM:-0500
TZOFFSETTO:-0600
TZNAME:CST
DTSTART:20241103T070000
END:STANDARD
BEGIN:DAYLIGHT
TZOFFSETFROM:-0600
TZOFFSETTO:-0500
TZNAME:CDT
DTSTART:20250309T080000
END:DAYLIGHT
BEGIN:STANDARD
TZOFFSETFROM:-0500
TZOFFSETTO:-0600
TZNAME:CST
DTSTART:20251102T070000
END:STANDARD
END:VTIMEZONE
BEGIN:VTIMEZONE
TZID:UTC
BEGIN:STANDARD
TZOFFSETFROM:+0000
TZOFFSETTO:+0000
TZNAME:UTC
DTSTART:20230101T000000
END:STANDARD
END:VTIMEZONE
BEGIN:VTIMEZONE
TZID:Atlantic/Azores
BEGIN:DAYLIGHT
TZOFFSETFROM:-0100
TZOFFSETTO:+0000
TZNAME:+00
DTSTART:20230326T010000
END:DAYLIGHT
BEGIN:STANDARD
TZOFFSETFROM:+0000
TZOFFSETTO:-0100
TZNAME:-01
DTSTART:20231029T010000
END:STANDARD
BEGIN:DAYLIGHT
TZOFFSETFROM:-0100
TZOFFSETTO:+0000
TZNAME:+00
DTSTART:20240331T010000
END:DAYLIGHT
BEGIN:STANDARD
TZOFFSETFROM:+0000
TZOFFSETTO:-0100
TZNAME:-01
DTSTART:20241027T010000
END:STANDARD
BEGIN:DAYLIGHT
TZOFFSETFROM:-0100
TZOFFSETTO:+0000
TZNAME:+00
DTSTART:20250330T010000
END:DAYLIGHT
BEGIN:STANDARD
TZOFFSETFROM:+0000
TZOFFSETTO:-0100
TZNAME:-01
DTSTART:20251026T010000
END:STANDARD
END:VTIMEZONE
BEGIN:VEVENT
DTSTART;TZID=America/Chicago:20240229T180000
DTEND;TZID=America/Chicago:20240229T200000
DTSTAMP:20260425T202754
CREATED:20230911T014550Z
LAST-MODIFIED:20230911T014550Z
UID:3863-1709229600-1709236800@springlodge1174.com
SUMMARY:CHILI COOK-OFF!
DESCRIPTION:Bring your best Chili’s. Winner will receive $100 Amazon Gift Card \nMeal at 6: 00 PM.
URL:https://springlodge1174.com/event/chili-cook-off/
END:VEVENT
BEGIN:VEVENT
DTSTART;TZID=America/Chicago:20240312T183000
DTEND;TZID=America/Chicago:20240312T190000
DTSTAMP:20260425T202754
CREATED:20240222T195705Z
LAST-MODIFIED:20240222T195705Z
UID:4162-1710268200-1710270000@springlodge1174.com
SUMMARY:Called Meeting: EA Turn-In First Section
DESCRIPTION:
URL:https://springlodge1174.com/event/called-meeting-ea-turn-in-first-section/
END:VEVENT
BEGIN:VEVENT
DTSTART;TZID=America/Chicago:20240314T180000
DTEND;TZID=America/Chicago:20240314T200000
DTSTAMP:20260425T202754
CREATED:20230911T013017Z
LAST-MODIFIED:20231218T025445Z
UID:3852-1710439200-1710446400@springlodge1174.com
SUMMARY:Steak Night
DESCRIPTION:Thursday\, March 14\, 2024 at 6:00 PM.\nPrice: $35\nTickets: WM Rinosa (832-995-6392)\, SW Baimbridge (baimbridge1174@gmail.com)\n16 oz Ribeye Steak with mashed potato and green beans – Open to all who want to purchase.
URL:https://springlodge1174.com/event/steak-night/
END:VEVENT
BEGIN:VEVENT
DTSTART;TZID=UTC:20240319T180000
DTEND;TZID=UTC:20240319T190000
DTSTAMP:20260425T202754
CREATED:20240107T214432Z
LAST-MODIFIED:20240107T214432Z
UID:4117-1710871200-1710874800@springlodge1174.com
SUMMARY:March Officer Meeting
DESCRIPTION:Officer Meeting at 6:30 PM. Expecting Officers/Committee Chair to submit their report to WM and Bro. Secretary via email or hard copy.
URL:https://springlodge1174.com/event/march-officer-meeting/
END:VEVENT
BEGIN:VEVENT
DTSTART;TZID=UTC:20240321T180000
DTEND;TZID=UTC:20240321T210000
DTSTAMP:20260425T202754
CREATED:20240107T214514Z
LAST-MODIFIED:20240107T214514Z
UID:4119-1711044000-1711054800@springlodge1174.com
SUMMARY:March Stated Meeting
DESCRIPTION:Stated Meeting. The open portion starts at 7:00 PM. The closed portion starts at 7:30 PM. Meal at 6:00 PM
URL:https://springlodge1174.com/event/march-stated-meeting/
END:VEVENT
BEGIN:VEVENT
DTSTART;TZID=Atlantic/Azores:20240322T180000
DTEND;TZID=Atlantic/Azores:20240322T200000
DTSTAMP:20260425T202754
CREATED:20240315T173619Z
LAST-MODIFIED:20240315T173619Z
UID:4207-1711130400-1711137600@springlodge1174.com
SUMMARY:Date Night at Kirby's Ice House by the Woodlands Mall
DESCRIPTION:Plan on arriving at 6:30 PM so we can get a table all together. Hopefully this nice weather will give us a nice evening in the patio.
URL:https://springlodge1174.com/event/date-night-at-kirbys-ice-house-by-the-woodlands-mall/
END:VEVENT
BEGIN:VEVENT
DTSTART;TZID=America/Chicago:20240328T180000
DTEND;TZID=America/Chicago:20240328T203000
DTSTAMP:20260425T202754
CREATED:20240325T013505Z
LAST-MODIFIED:20240325T013505Z
UID:4223-1711648800-1711657800@springlodge1174.com
SUMMARY:CALLED MEETING EA DEGREE
DESCRIPTION:Meal at 6 PM \nMeeting at 7 PM
URL:https://springlodge1174.com/event/called-meeting-ea-degree-3/
END:VEVENT
BEGIN:VEVENT
DTSTART;TZID=America/Chicago:20240330T060000
DTEND;TZID=America/Chicago:20240330T110000
DTSTAMP:20260425T202754
CREATED:20240315T173919Z
LAST-MODIFIED:20240315T173919Z
UID:4209-1711778400-1711796400@springlodge1174.com
SUMMARY:Breakfast for the Homeless
DESCRIPTION:6:00 AM Prepare of Meal \n9:00 AM Serve of Meal \nMore details are to be provided by Bro. Nick Bizic.
URL:https://springlodge1174.com/event/breakfast-for-the-homeless/
END:VEVENT
END:VCALENDAR