BEGIN:VCALENDAR
VERSION:2.0
PRODID:-//The Lodge - ECPv6.15.16.1//NONSGML v1.0//EN
CALSCALE:GREGORIAN
METHOD:PUBLISH
X-ORIGINAL-URL:https://springlodge1174.com
X-WR-CALDESC:Events for The Lodge
REFRESH-INTERVAL;VALUE=DURATION:PT1H
X-Robots-Tag:noindex
X-PUBLISHED-TTL:PT1H
BEGIN:VTIMEZONE
TZID:America/Chicago
BEGIN:DAYLIGHT
TZOFFSETFROM:-0600
TZOFFSETTO:-0500
TZNAME:CDT
DTSTART:20220313T080000
END:DAYLIGHT
BEGIN:STANDARD
TZOFFSETFROM:-0500
TZOFFSETTO:-0600
TZNAME:CST
DTSTART:20221106T070000
END:STANDARD
BEGIN:DAYLIGHT
TZOFFSETFROM:-0600
TZOFFSETTO:-0500
TZNAME:CDT
DTSTART:20230312T080000
END:DAYLIGHT
BEGIN:STANDARD
TZOFFSETFROM:-0500
TZOFFSETTO:-0600
TZNAME:CST
DTSTART:20231105T070000
END:STANDARD
BEGIN:DAYLIGHT
TZOFFSETFROM:-0600
TZOFFSETTO:-0500
TZNAME:CDT
DTSTART:20240310T080000
END:DAYLIGHT
BEGIN:STANDARD
TZOFFSETFROM:-0500
TZOFFSETTO:-0600
TZNAME:CST
DTSTART:20241103T070000
END:STANDARD
END:VTIMEZONE
BEGIN:VTIMEZONE
TZID:UTC
BEGIN:STANDARD
TZOFFSETFROM:+0000
TZOFFSETTO:+0000
TZNAME:UTC
DTSTART:20220101T000000
END:STANDARD
END:VTIMEZONE
BEGIN:VEVENT
DTSTART;TZID=America/Chicago:20231130T180000
DTEND;TZID=America/Chicago:20231130T200000
DTSTAMP:20260426T010234
CREATED:20231022T215729Z
LAST-MODIFIED:20231022T215729Z
UID:3913-1701367200-1701374400@springlodge1174.com
SUMMARY:Entered Apprentice Degree
DESCRIPTION:The called meeting Starts at 7:00 PM. Meal at 6 PM. Meal: Filipino Food.
URL:https://springlodge1174.com/event/entered-apprentice-degree-2/
END:VEVENT
BEGIN:VEVENT
DTSTART;TZID=America/Chicago:20231202T080000
DTEND;TZID=America/Chicago:20231203T170000
DTSTAMP:20260426T010234
CREATED:20231029T161636Z
LAST-MODIFIED:20231029T161636Z
UID:3922-1701504000-1701622800@springlodge1174.com
SUMMARY:Lodge Parking Event - OTS Home For The Holidays
DESCRIPTION:Weekends Parking from 8am – 4pm. An hour or two of your help is much appreciated.
URL:https://springlodge1174.com/event/lodge-parking-event-ots-home-for-the-holidays-3/
END:VEVENT
BEGIN:VEVENT
DTSTART;TZID=America/Chicago:20231207T180000
DTEND;TZID=America/Chicago:20231207T190000
DTSTAMP:20260426T010234
CREATED:20231206T200135Z
LAST-MODIFIED:20231206T200135Z
UID:3950-1701972000-1701975600@springlodge1174.com
SUMMARY:EA Turn-In Followed By FC Degree
DESCRIPTION:6 PM MEAL\n7 PM CALLED MEETING
URL:https://springlodge1174.com/event/ea-turn-in-followed-by-fc-degree/
END:VEVENT
BEGIN:VEVENT
DTSTART;TZID=America/Chicago:20231209T080000
DTEND;TZID=America/Chicago:20231210T170000
DTSTAMP:20260426T010234
CREATED:20231029T161730Z
LAST-MODIFIED:20231029T161730Z
UID:3924-1702108800-1702227600@springlodge1174.com
SUMMARY:Lodge Parking Event - OTS Home For The Holidays
DESCRIPTION:Weekends Parking from 8am – 4pm. An hour or two of your help is much appreciated.
URL:https://springlodge1174.com/event/lodge-parking-event-ots-home-for-the-holidays-4/
END:VEVENT
BEGIN:VEVENT
DTSTART;TZID=America/Chicago:20231209T170000
DTEND;TZID=America/Chicago:20231209T230000
DTSTAMP:20260426T010234
CREATED:20230911T013411Z
LAST-MODIFIED:20230924T155943Z
UID:3856-1702141200-1702162800@springlodge1174.com
SUMMARY:Spring Lodge Christmas Party/Auction
DESCRIPTION:Spring Lodge Xmas Party/Auction:\nDate: December 9\, 2023\nPlace: VFW facility at 1303 W. Semands\, Conroe\nStart Time: 5:00 PM
URL:https://springlodge1174.com/event/spring-lodge-xmas-party-auction/
END:VEVENT
BEGIN:VEVENT
DTSTART;TZID=America/Chicago:20231214T180000
DTEND;TZID=America/Chicago:20231214T190000
DTSTAMP:20260426T010234
CREATED:20231206T200359Z
LAST-MODIFIED:20231206T200359Z
UID:3953-1702576800-1702580400@springlodge1174.com
SUMMARY:FC DEGREE
DESCRIPTION:6 PM MEAL\n7 PM CALLED MEETING
URL:https://springlodge1174.com/event/fc-degree/
END:VEVENT
BEGIN:VEVENT
DTSTART;TZID=America/Chicago:20231216T080000
DTEND;TZID=America/Chicago:20231217T170000
DTSTAMP:20260426T010234
CREATED:20231029T161820Z
LAST-MODIFIED:20231029T161820Z
UID:3926-1702713600-1702832400@springlodge1174.com
SUMMARY:Lodge Parking Event - OTS Home For The Holidays
DESCRIPTION:Weekends Parking from 8am – 4pm. An hour or two of your help is much appreciated.
URL:https://springlodge1174.com/event/lodge-parking-event-ots-home-for-the-holidays-5/
END:VEVENT
BEGIN:VEVENT
DTSTART;TZID=America/Chicago:20231219T180000
DTEND;TZID=America/Chicago:20231219T190000
DTSTAMP:20260426T010234
CREATED:20231206T200545Z
LAST-MODIFIED:20231206T200545Z
UID:3955-1703008800-1703012400@springlodge1174.com
SUMMARY:December Officer Meeting
DESCRIPTION:Meeting Start 6 PM. Officer & Committee Chair to submit report via email or hard copy.
URL:https://springlodge1174.com/event/december-officer-meeting/
END:VEVENT
BEGIN:VEVENT
DTSTART;TZID=America/Chicago:20231221T180000
DTEND;TZID=America/Chicago:20231221T200000
DTSTAMP:20260426T010234
CREATED:20231206T200651Z
LAST-MODIFIED:20231206T200651Z
UID:3957-1703181600-1703188800@springlodge1174.com
SUMMARY:December Stated Meeting
DESCRIPTION:6 PM MEAL\n7 PM STATED MEETING
URL:https://springlodge1174.com/event/december-stated-meeting/
END:VEVENT
BEGIN:VEVENT
DTSTART;VALUE=DATE:20231226
DTEND;VALUE=DATE:20231227
DTSTAMP:20260426T010234
CREATED:20231206T200840Z
LAST-MODIFIED:20231206T200840Z
UID:3959-1703548800-1703635199@springlodge1174.com
SUMMARY:LODGE IS DARK
DESCRIPTION:
URL:https://springlodge1174.com/event/lodge-is-dark/
END:VEVENT
BEGIN:VEVENT
DTSTART;VALUE=DATE:20231228
DTEND;VALUE=DATE:20231229
DTSTAMP:20260426T010234
CREATED:20231206T200916Z
LAST-MODIFIED:20231206T200916Z
UID:3961-1703721600-1703807999@springlodge1174.com
SUMMARY:LODGE IS DARK
DESCRIPTION:
URL:https://springlodge1174.com/event/lodge-is-dark-2/
END:VEVENT
BEGIN:VEVENT
DTSTART;TZID=America/Chicago:20231230T080000
DTEND;TZID=America/Chicago:20231231T170000
DTSTAMP:20260426T010234
CREATED:20231029T161931Z
LAST-MODIFIED:20231029T161931Z
UID:3928-1703923200-1704042000@springlodge1174.com
SUMMARY:Lodge Parking Event - OTS Home For The Holidays
DESCRIPTION:Weekends Parking from 8am – 4pm. An hour or two of your help is much appreciated.
URL:https://springlodge1174.com/event/lodge-parking-event-ots-home-for-the-holidays-6/
END:VEVENT
END:VCALENDAR