BEGIN:VCALENDAR
VERSION:2.0
PRODID:-//The Lodge - ECPv6.15.16.1//NONSGML v1.0//EN
CALSCALE:GREGORIAN
METHOD:PUBLISH
X-ORIGINAL-URL:https://springlodge1174.com
X-WR-CALDESC:Events for The Lodge
REFRESH-INTERVAL;VALUE=DURATION:PT1H
X-Robots-Tag:noindex
X-PUBLISHED-TTL:PT1H
BEGIN:VTIMEZONE
TZID:America/Chicago
BEGIN:DAYLIGHT
TZOFFSETFROM:-0600
TZOFFSETTO:-0500
TZNAME:CDT
DTSTART:20220313T080000
END:DAYLIGHT
BEGIN:STANDARD
TZOFFSETFROM:-0500
TZOFFSETTO:-0600
TZNAME:CST
DTSTART:20221106T070000
END:STANDARD
BEGIN:DAYLIGHT
TZOFFSETFROM:-0600
TZOFFSETTO:-0500
TZNAME:CDT
DTSTART:20230312T080000
END:DAYLIGHT
BEGIN:STANDARD
TZOFFSETFROM:-0500
TZOFFSETTO:-0600
TZNAME:CST
DTSTART:20231105T070000
END:STANDARD
BEGIN:DAYLIGHT
TZOFFSETFROM:-0600
TZOFFSETTO:-0500
TZNAME:CDT
DTSTART:20240310T080000
END:DAYLIGHT
BEGIN:STANDARD
TZOFFSETFROM:-0500
TZOFFSETTO:-0600
TZNAME:CST
DTSTART:20241103T070000
END:STANDARD
END:VTIMEZONE
BEGIN:VEVENT
DTSTART;TZID=America/Chicago:20231003T180000
DTEND;TZID=America/Chicago:20231003T190000
DTSTAMP:20260426T035014
CREATED:20230821T010414Z
LAST-MODIFIED:20230821T010414Z
UID:3746-1696356000-1696359600@springlodge1174.com
SUMMARY:ACTIVITIES/EVENTS RECURRING UPDATE
DESCRIPTION:Activities/Events Monthly Recurring Meeting. Follow-up about Festive Board\, Thanksgiving\, Christmas Party\, First Responders Appreciation dinner\, Past Master Night\, Reading Program\, etc… The meeting Starts at 6:00 PM. Meal: Potluck style or Bring your own Meal.
URL:https://springlodge1174.com/event/activities-events-recurring-update-2/
END:VEVENT
BEGIN:VEVENT
DTSTART;TZID=America/Chicago:20231005T183000
DTEND;TZID=America/Chicago:20231005T183000
DTSTAMP:20260426T035014
CREATED:20230807T020527Z
LAST-MODIFIED:20230910T220300Z
UID:3724-1696530600-1696530600@springlodge1174.com
SUMMARY:KICKOFF MEETING - SL1174 "EMERGENCY RESPONSE TEAM"
DESCRIPTION:The main discussion is establishing a team of brothers who can respond in an emergency. Brothers with skills and knowledge of this line of work are encouraged to participate. All are welcome to attend. The meeting starts at 6:30 PM. Meal at 6:00 PM
URL:https://springlodge1174.com/event/kickoff-meeting-sl1174-emergency-response-team/
END:VEVENT
BEGIN:VEVENT
DTSTART;TZID=America/Chicago:20231007T080000
DTEND;TZID=America/Chicago:20231007T150000
DTSTAMP:20260426T035014
CREATED:20230924T134444Z
LAST-MODIFIED:20230924T153723Z
UID:3884-1696665600-1696690800@springlodge1174.com
SUMMARY:Spring Lodge Parking Event
DESCRIPTION:Spring Lodge Parking Event: OTS “SAFE-TOBER FEST” starts at 8:00 AM\, encouraging all EAs\, FCs & MMs to participate.
URL:https://springlodge1174.com/event/spring-lodge-parking-event/
END:VEVENT
BEGIN:VEVENT
DTSTART;TZID=America/Chicago:20231011T173000
DTEND;TZID=America/Chicago:20231011T190000
DTSTAMP:20260426T035014
CREATED:20230821T010636Z
LAST-MODIFIED:20230917T224548Z
UID:3748-1697045400-1697050800@springlodge1174.com
SUMMARY:Spring Lodge #1174 Ladies Group
DESCRIPTION:All interested ladies are invited and encouraged to attend\, the meeting starts at 5:30 PM
URL:https://springlodge1174.com/event/spring-lodge-1174-ladies-group/
END:VEVENT
BEGIN:VEVENT
DTSTART;TZID=America/Chicago:20231012T190000
DTEND;TZID=America/Chicago:20231012T190000
DTSTAMP:20260426T035014
CREATED:20230827T210943Z
LAST-MODIFIED:20230827T211004Z
UID:3756-1697137200-1697137200@springlodge1174.com
SUMMARY:Investigation Training
DESCRIPTION:INVESTIGATION TRAINING BY DDGM. MEAL START AT 6 PM. PRESENTATION STARTS AT 7 PM.
URL:https://springlodge1174.com/event/investigation-training/
END:VEVENT
BEGIN:VEVENT
DTSTART;TZID=America/Chicago:20231017T180000
DTEND;TZID=America/Chicago:20231017T190000
DTSTAMP:20260426T035014
CREATED:20230827T211148Z
LAST-MODIFIED:20230910T220604Z
UID:3758-1697565600-1697569200@springlodge1174.com
SUMMARY:OCTOBER OFFICER MEETING
DESCRIPTION:Officer Meeting at 6:30 PM. Expecting Officers/Committee Chair to submit their report to WM and Bro. Secretary via email or hard copy.
URL:https://springlodge1174.com/event/october-officer-meeting/
END:VEVENT
BEGIN:VEVENT
DTSTART;TZID=America/Chicago:20231019T180000
DTEND;TZID=America/Chicago:20231019T180000
DTSTAMP:20260426T035014
CREATED:20230827T211316Z
LAST-MODIFIED:20230827T211316Z
UID:3760-1697738400-1697738400@springlodge1174.com
SUMMARY:OCTOBER STATED MEETING
DESCRIPTION:STATED MEETING: 7PM OPEN PORTION; 7:30PM CLOSED PORTION\nMM REOBLIGATION
URL:https://springlodge1174.com/event/october-stated-meeting/
END:VEVENT
BEGIN:VEVENT
DTSTART;TZID=America/Chicago:20231024T180000
DTEND;TZID=America/Chicago:20231024T190000
DTSTAMP:20260426T035014
CREATED:20231022T215101Z
LAST-MODIFIED:20231022T215101Z
UID:3900-1698170400-1698174000@springlodge1174.com
SUMMARY:Mentorship/Mentees Meeting
DESCRIPTION:The meeting starts at 6:00 PM. Requiring all EAs and Mentors to attend this meeting.
URL:https://springlodge1174.com/event/mentorship-mentees-meeting-2/
END:VEVENT
BEGIN:VEVENT
DTSTART;TZID=America/Chicago:20231026T180000
DTEND;TZID=America/Chicago:20231026T200000
DTSTAMP:20260426T035014
CREATED:20230827T211929Z
LAST-MODIFIED:20230827T211929Z
UID:3766-1698343200-1698350400@springlodge1174.com
SUMMARY:FUNDRAISING RUCURRING UPDATE
DESCRIPTION:Fundraising Monthly Recurring Meeting. The meeting Starts at 6:00 PM. Update on action items assigned last July 25th\, and Finalize fundraising.
URL:https://springlodge1174.com/event/fundraising-rucurring-update/
END:VEVENT
BEGIN:VEVENT
DTSTART;TZID=America/Chicago:20231027T183000
DTEND;TZID=America/Chicago:20231027T203000
DTSTAMP:20260426T035014
CREATED:20230807T020313Z
LAST-MODIFIED:20231009T010325Z
UID:3720-1698431400-1698438600@springlodge1174.com
SUMMARY:Date Night
DESCRIPTION:Bon KBBQ @3645 Cypress Creek Pkwy Ste 110\, Houston\, TX 77068. Meeting Time 6:30 PM Contact Bro. JW for more details.
URL:https://springlodge1174.com/event/date-night/
END:VEVENT
BEGIN:VEVENT
DTSTART;TZID=America/Chicago:20231028T080000
DTEND;TZID=America/Chicago:20231028T170000
DTSTAMP:20260426T035014
CREATED:20230827T212042Z
LAST-MODIFIED:20230827T212101Z
UID:3768-1698480000-1698512400@springlodge1174.com
SUMMARY:PARKING EVENT AT THE LODGE
DESCRIPTION:8AM-4PM OTS businesses giving candy away.
URL:https://springlodge1174.com/event/parking-event-at-the-lodge/
END:VEVENT
END:VCALENDAR