BEGIN:VCALENDAR
VERSION:2.0
PRODID:-//The Lodge - ECPv6.15.16.1//NONSGML v1.0//EN
CALSCALE:GREGORIAN
METHOD:PUBLISH
X-WR-CALNAME:The Lodge
X-ORIGINAL-URL:https://springlodge1174.com
X-WR-CALDESC:Events for The Lodge
REFRESH-INTERVAL;VALUE=DURATION:PT1H
X-Robots-Tag:noindex
X-PUBLISHED-TTL:PT1H
BEGIN:VTIMEZONE
TZID:America/Chicago
BEGIN:DAYLIGHT
TZOFFSETFROM:-0600
TZOFFSETTO:-0500
TZNAME:CDT
DTSTART:20230312T080000
END:DAYLIGHT
BEGIN:STANDARD
TZOFFSETFROM:-0500
TZOFFSETTO:-0600
TZNAME:CST
DTSTART:20231105T070000
END:STANDARD
BEGIN:DAYLIGHT
TZOFFSETFROM:-0600
TZOFFSETTO:-0500
TZNAME:CDT
DTSTART:20240310T080000
END:DAYLIGHT
BEGIN:STANDARD
TZOFFSETFROM:-0500
TZOFFSETTO:-0600
TZNAME:CST
DTSTART:20241103T070000
END:STANDARD
BEGIN:DAYLIGHT
TZOFFSETFROM:-0600
TZOFFSETTO:-0500
TZNAME:CDT
DTSTART:20250309T080000
END:DAYLIGHT
BEGIN:STANDARD
TZOFFSETFROM:-0500
TZOFFSETTO:-0600
TZNAME:CST
DTSTART:20251102T070000
END:STANDARD
END:VTIMEZONE
BEGIN:VTIMEZONE
TZID:UTC
BEGIN:STANDARD
TZOFFSETFROM:+0000
TZOFFSETTO:+0000
TZNAME:UTC
DTSTART:20230101T000000
END:STANDARD
END:VTIMEZONE
BEGIN:VEVENT
DTSTART;TZID=America/Chicago:20241116T090000
DTEND;TZID=America/Chicago:20241116T233000
DTSTAMP:20260425T112446
CREATED:20241110T225902Z
LAST-MODIFIED:20241110T225902Z
UID:4740-1731747600-1731799800@springlodge1174.com
SUMMARY:Master Mason Degree
DESCRIPTION:9 am breakfast \n10 am degree
URL:https://springlodge1174.com/event/master-mason-degree/
END:VEVENT
BEGIN:VEVENT
DTSTART;TZID=America/Chicago:20241114T180000
DTEND;TZID=America/Chicago:20241114T200000
DTSTAMP:20260425T112446
CREATED:20241030T173657Z
LAST-MODIFIED:20241110T005654Z
UID:4718-1731607200-1731614400@springlodge1174.com
SUMMARY:Chili CookOff
DESCRIPTION:6:00 PM Meal \nSPRING LODGE No. 1174\nCHILI COOKOFF CONTESTANT RULES \n1. Chili is defined by the International Chili Society as:\nTraditional Red Chili is any kind of meat\, or combination of meats\, cooked with red chili peppers\, various spices and other ingredients. Beans and non-vegetable fillers such as rice and pasta are not allowed.Preference is not given to either cut meat\, ground meat\, shredded meat or cubed meat.\n2. Contestants must bring a minimum of 3 quarts of chili.\n3. Entries need to arrive at the Lodge by 5:00pm and can be in a Crock Pot or other electric cooker kept on the “warm” setting.\n4. All entries must be fully prepared prior to arrival at the Lodge. No cooking will be allowed at the Lodge on the day of the contest.\n5. Awards will be presented at 6pm prior to the evening meal.\n6. Container shall not contain any name or marking to identify the contestant.\n7. Upon arrival at the Lodge\, contestant will meet with Stewards to ensure compliance with these rules.\n8. Entries will be based on a 50 point system\, 10 points maximum for the following categories:\na. Aroma\nb. Texture\nc. Color\nd. Taste\ne. Aftertaste / Bite
URL:https://springlodge1174.com/event/chili-cookoff/
END:VEVENT
BEGIN:VEVENT
DTSTART;TZID=America/Chicago:20241112T180000
DTEND;TZID=America/Chicago:20241112T190000
DTSTAMP:20260425T112446
CREATED:20241110T221239Z
LAST-MODIFIED:20241110T221239Z
UID:4728-1731434400-1731438000@springlodge1174.com
SUMMARY:Recurring Activities and Events Meeting & Festive Board Committee Meeting
DESCRIPTION:Meeting starts at 6:00 PM.
URL:https://springlodge1174.com/event/recurring-activities-and-events-meeting-festive-board-committee-meeting/
END:VEVENT
BEGIN:VEVENT
DTSTART;TZID=UTC:20241107T190000
DTEND;TZID=UTC:20241107T210000
DTSTAMP:20260425T112446
CREATED:20241030T173548Z
LAST-MODIFIED:20241030T173548Z
UID:4716-1731006000-1731013200@springlodge1174.com
SUMMARY:Called Meeting: Fellowcraft Degree
DESCRIPTION:6:00 PM Meal \n7:00 PM Degree
URL:https://springlodge1174.com/event/called-meeting-fellowcraft-degree-3/
END:VEVENT
BEGIN:VEVENT
DTSTART;TZID=UTC:20241105T180000
DTEND;TZID=UTC:20241105T190000
DTSTAMP:20260425T112446
CREATED:20241030T174325Z
LAST-MODIFIED:20241030T174325Z
UID:4725-1730829600-1730833200@springlodge1174.com
SUMMARY:Fundraising Meeting
DESCRIPTION:Meeting start at 6:00 PM
URL:https://springlodge1174.com/event/fundraising-meeting/
END:VEVENT
BEGIN:VEVENT
DTSTART;TZID=America/Chicago:20241012T080000
DTEND;TZID=America/Chicago:20241012T170000
DTSTAMP:20260425T112446
CREATED:20240825T232943Z
LAST-MODIFIED:20240825T233021Z
UID:4669-1728720000-1728752400@springlodge1174.com
SUMMARY:OTS Parking Event: SAFE-TOBER-FEST
DESCRIPTION:OTS Parking Event: SAFE-TOBER-FEST. Start at 8:00 AM to 4:00 PM.
URL:https://springlodge1174.com/event/ots-parking-event-safe-tober-fest/
END:VEVENT
BEGIN:VEVENT
DTSTART;TZID=America/Chicago:20241012T080000
DTEND;TZID=America/Chicago:20241012T120000
DTSTAMP:20260425T112446
CREATED:20240819T012831Z
LAST-MODIFIED:20240819T012831Z
UID:4650-1728720000-1728734400@springlodge1174.com
SUMMARY:Mobile market with food bank - Conroe
DESCRIPTION:8am-12pm
URL:https://springlodge1174.com/event/mobile-market-with-food-bank-conroe/
END:VEVENT
BEGIN:VEVENT
DTSTART;TZID=America/Chicago:20241007T080000
DTEND;TZID=America/Chicago:20241007T170000
DTSTAMP:20260425T112446
CREATED:20240825T232748Z
LAST-MODIFIED:20240825T232748Z
UID:4667-1728288000-1728320400@springlodge1174.com
SUMMARY:OTS Parking Event: BIG BOY TRAIN
DESCRIPTION:
URL:https://springlodge1174.com/event/ots-parking-event-big-boy-train/
END:VEVENT
BEGIN:VEVENT
DTSTART;TZID=America/Chicago:20240927T180000
DTEND;TZID=America/Chicago:20240927T200000
DTSTAMP:20260425T112446
CREATED:20240908T230941Z
LAST-MODIFIED:20240908T230941Z
UID:4695-1727460000-1727467200@springlodge1174.com
SUMMARY:Date Night @ El Jimador
DESCRIPTION:El Jimador (4702 Louetta Rd. Spring TX.). Plan on arriving at 6:00 PM so we can get a table all together.
URL:https://springlodge1174.com/event/date-night-el-jimador/
END:VEVENT
BEGIN:VEVENT
DTSTART;TZID=America/Chicago:20240926T180000
DTEND;TZID=America/Chicago:20240926T210000
DTSTAMP:20260425T112446
CREATED:20240908T230839Z
LAST-MODIFIED:20240908T231008Z
UID:4693-1727373600-1727384400@springlodge1174.com
SUMMARY:Called Meeting: Master Mason Degree
DESCRIPTION:6:00 PM Meal \n7:00 PM Degree
URL:https://springlodge1174.com/event/called-meeting-master-degree/
END:VEVENT
BEGIN:VEVENT
DTSTART;TZID=America/Chicago:20240921T080000
DTEND;TZID=America/Chicago:20240922T170000
DTSTAMP:20260425T112446
CREATED:20240825T232654Z
LAST-MODIFIED:20240825T232654Z
UID:4665-1726905600-1727024400@springlodge1174.com
SUMMARY:OTS Parking Event: LONGHORN HOT ROD RUN
DESCRIPTION:Start at 8:30 AM to 4:00 PM.
URL:https://springlodge1174.com/event/ots-parking-event-longhorn-hot-rod-run/
END:VEVENT
BEGIN:VEVENT
DTSTART;TZID=America/Chicago:20240919T180000
DTEND;TZID=America/Chicago:20240919T210000
DTSTAMP:20260425T112446
CREATED:20240825T232552Z
LAST-MODIFIED:20240825T232552Z
UID:4663-1726768800-1726779600@springlodge1174.com
SUMMARY:September Stated Meeting
DESCRIPTION:September Stated Meeting. DDGM second official visit. The open portion starts at 7:00 PM. The closed portion starts at 7:30 PM. Meal at 6:00 PM. Meal: Blackened Tilapia w/ Fried Rice.
URL:https://springlodge1174.com/event/september-stated-meeting-2/
END:VEVENT
BEGIN:VEVENT
DTSTART;TZID=America/Chicago:20240917T180000
DTEND;TZID=America/Chicago:20240917T190000
DTSTAMP:20260425T112446
CREATED:20240825T232350Z
LAST-MODIFIED:20240825T232350Z
UID:4660-1726596000-1726599600@springlodge1174.com
SUMMARY:September Officer Meeting
DESCRIPTION:): September Officer Meeting at 6:30 PM. Expecting Officers/Committee Chair to submit their report to WM and Bro. Secretary via email or hard copy.
URL:https://springlodge1174.com/event/september-officer-meeting-2/
END:VEVENT
BEGIN:VEVENT
DTSTART;TZID=America/Chicago:20240912T180000
DTEND;TZID=America/Chicago:20240912T200000
DTSTAMP:20260425T112446
CREATED:20240825T232245Z
LAST-MODIFIED:20240825T232256Z
UID:4658-1726164000-1726171200@springlodge1174.com
SUMMARY:Practice DDGM Official visit
DESCRIPTION:The practice starts at 7:00 PM. Meal at 6:00 PM. Meal: Seafood Fettucine Alfredo w/ Garlic Bread.
URL:https://springlodge1174.com/event/practice-ddgm-official-visit/
END:VEVENT
BEGIN:VEVENT
DTSTART;TZID=America/Chicago:20240910T180000
DTEND;TZID=America/Chicago:20240910T190000
DTSTAMP:20260425T112446
CREATED:20240825T232200Z
LAST-MODIFIED:20240825T232200Z
UID:4656-1725991200-1725994800@springlodge1174.com
SUMMARY:Activities/Events Recurring Meeting
DESCRIPTION:Activities/Events Recurring Meeting. The fundraising meeting starts at 6:00 PM.
URL:https://springlodge1174.com/event/activities-events-recurring-meeting/
END:VEVENT
BEGIN:VEVENT
DTSTART;TZID=America/Chicago:20240903T180000
DTEND;TZID=America/Chicago:20240903T190000
DTSTAMP:20260425T112446
CREATED:20240819T002204Z
LAST-MODIFIED:20240825T232057Z
UID:4642-1725386400-1725390000@springlodge1174.com
SUMMARY:Fundraising Recurring Meeting & Master Mason Practice Degree
DESCRIPTION:The meeting starts at 6:00 PM followed by Practice Degree.
URL:https://springlodge1174.com/event/master-mason-practice-degree/
END:VEVENT
BEGIN:VEVENT
DTSTART;TZID=America/Chicago:20240829T180000
DTEND;TZID=America/Chicago:20240829T200000
DTSTAMP:20260425T112446
CREATED:20240812T010042Z
LAST-MODIFIED:20240812T010042Z
UID:4632-1724954400-1724961600@springlodge1174.com
SUMMARY:Called Meeting: EA Floor School
DESCRIPTION:The meeting starts at 7:00 PM. Meal at 6:00 PM. Meal: Rainbow Girls will provide the meal.
URL:https://springlodge1174.com/event/called-meeting-ea-floor-school/
END:VEVENT
BEGIN:VEVENT
DTSTART;TZID=America/Chicago:20240823T183000
DTEND;TZID=America/Chicago:20240823T203000
DTSTAMP:20260425T112446
CREATED:20240819T002052Z
LAST-MODIFIED:20240819T002052Z
UID:4640-1724437800-1724445000@springlodge1174.com
SUMMARY:Date Night at Woodson's Tap
DESCRIPTION:Date Night at Woodson’s Tap (4127 Riley Fuzzel Rd. Spring TX.). Plan on arriving at 6:30 PM so we can get a table all together.
URL:https://springlodge1174.com/event/date-night-at-woodsons-tap/
END:VEVENT
BEGIN:VEVENT
DTSTART;TZID=America/Chicago:20240822T180000
DTEND;TZID=America/Chicago:20240822T193000
DTSTAMP:20260425T112446
CREATED:20240819T001928Z
LAST-MODIFIED:20240819T001928Z
UID:4638-1724349600-1724355000@springlodge1174.com
SUMMARY:Called Meeting: Fellowcraft Lodge. Esoteric Turn-In
DESCRIPTION:The meeting starts at 7:00 PM. Meal at 6:00 PM. Meal: Hamburger with French Fries and Salad.
URL:https://springlodge1174.com/event/called-meeting-fellowcraft-lodge-esoteric-turn-in/
END:VEVENT
BEGIN:VEVENT
DTSTART;TZID=America/Chicago:20240822T140000
DTEND;TZID=America/Chicago:20240822T170000
DTSTAMP:20260425T112446
CREATED:20240819T012458Z
LAST-MODIFIED:20240819T012458Z
UID:4646-1724335200-1724346000@springlodge1174.com
SUMMARY:Blood Drive
DESCRIPTION:Blood drive 2-5pm
URL:https://springlodge1174.com/event/blood-drive/
END:VEVENT
BEGIN:VEVENT
DTSTART;TZID=America/Chicago:20240820T180000
DTEND;TZID=America/Chicago:20240820T190000
DTSTAMP:20260425T112446
CREATED:20240804T185205Z
LAST-MODIFIED:20240804T185354Z
UID:4615-1724176800-1724180400@springlodge1174.com
SUMMARY:Committee Meeting
DESCRIPTION:Meeting Start at 6:00 PM. \n 
URL:https://springlodge1174.com/event/committee-meeting/
END:VEVENT
BEGIN:VEVENT
DTSTART;TZID=UTC:20240819T080000
DTEND;TZID=UTC:20240819T170000
DTSTAMP:20260425T112446
CREATED:20240819T002319Z
LAST-MODIFIED:20240819T002319Z
UID:4644-1724054400-1724086800@springlodge1174.com
SUMMARY:Called Meeting: Master Mason Lodge. Master Mason Degree
DESCRIPTION:The meeting starts at 7:00 PM. Meal at 6:00 PM. Meal: Smoke Sausage and Hashbrown.
URL:https://springlodge1174.com/event/called-meeting-master-mason-lodge-master-mason-degree/
END:VEVENT
BEGIN:VEVENT
DTSTART;TZID=America/Chicago:20240816T180000
DTEND;TZID=America/Chicago:20240816T203000
DTSTAMP:20260425T112446
CREATED:20240717T134433Z
LAST-MODIFIED:20240805T221802Z
UID:4426-1723831200-1723840200@springlodge1174.com
SUMMARY:Stated Meeting
DESCRIPTION:The open portion starts at 7:00 PM. \nThe closed portion starts at 7:30 PM. \nMeal at 6:00 PM.
URL:https://springlodge1174.com/event/july-called-meeting-to-conduct-business/
END:VEVENT
BEGIN:VEVENT
DTSTART;TZID=America/Chicago:20240813T170000
DTEND;TZID=America/Chicago:20240813T190000
DTSTAMP:20260425T112446
CREATED:20240717T134244Z
LAST-MODIFIED:20240805T221914Z
UID:4424-1723568400-1723575600@springlodge1174.com
SUMMARY:Officers Meeting
DESCRIPTION:The meeting starts at 6:30 PM. Expecting Officers/Committee Chair to submit their report to WM and Bro. Secretary via email or hard copy.
URL:https://springlodge1174.com/event/july-officers-meeting/
END:VEVENT
BEGIN:VEVENT
DTSTART;TZID=UTC:20240808T180000
DTEND;TZID=UTC:20240808T200000
DTSTAMP:20260425T112446
CREATED:20240728T234827Z
LAST-MODIFIED:20240728T234853Z
UID:4607-1723140000-1723147200@springlodge1174.com
SUMMARY:Lodge Invasion - Tomball Lodge 1096
DESCRIPTION:Meet us at Tomball Lodge 1096
URL:https://springlodge1174.com/event/lodge-invasion-tomball-lodge-1096/
END:VEVENT
BEGIN:VEVENT
DTSTART;TZID=America/Chicago:20240806T180000
DTEND;TZID=America/Chicago:20240806T210000
DTSTAMP:20260425T112446
CREATED:20240728T234738Z
LAST-MODIFIED:20240728T234738Z
UID:4605-1722967200-1722978000@springlodge1174.com
SUMMARY:Called Meeting Fellowcraft Degree
DESCRIPTION:Meal at 6 PM \nMeeting at 7 PM
URL:https://springlodge1174.com/event/called-meeting-fellowcraft-degree-2/
END:VEVENT
BEGIN:VEVENT
DTSTART;TZID=America/Chicago:20240801T180000
DTEND;TZID=America/Chicago:20240801T203000
DTSTAMP:20260425T112446
CREATED:20240717T134603Z
LAST-MODIFIED:20240717T134603Z
UID:4428-1722535200-1722544200@springlodge1174.com
SUMMARY:Called Meeting - Entered Apprentice Degree
DESCRIPTION:Meal at 6 PM. Degree at 7 PM.
URL:https://springlodge1174.com/event/called-meeting-entered-apprentice-degree/
END:VEVENT
BEGIN:VEVENT
DTSTART;TZID=America/Chicago:20240720T140000
DTEND;TZID=America/Chicago:20240720T190000
DTSTAMP:20260425T112446
CREATED:20240717T134200Z
LAST-MODIFIED:20240717T134200Z
UID:4422-1721484000-1721502000@springlodge1174.com
SUMMARY:103rd Officers Installation of Spring Lodge No. 1174
DESCRIPTION:2:00 PM to call Master Mason Lodge of Sorrow to Labor. Installation starts at 4:00 PM following meal.
URL:https://springlodge1174.com/event/103rd-officers-installation-of-spring-lodge-no-1174/
END:VEVENT
BEGIN:VEVENT
DTSTART;TZID=America/Chicago:20240718T180000
DTEND;TZID=America/Chicago:20240718T190000
DTSTAMP:20260425T112446
CREATED:20240717T134110Z
LAST-MODIFIED:20240717T134110Z
UID:4420-1721325600-1721329200@springlodge1174.com
SUMMARY:Installation Practice
DESCRIPTION:Practice starts at 6:30 PM. Meal at 6:00 PM. Meal: Spaghetti W/ Garlic Bread and Salad.
URL:https://springlodge1174.com/event/installation-practice/
END:VEVENT
BEGIN:VEVENT
DTSTART;TZID=America/Chicago:20240621T180000
DTEND;TZID=America/Chicago:20240621T213000
DTSTAMP:20260425T112446
CREATED:20240527T142144Z
LAST-MODIFIED:20240527T142144Z
UID:4407-1718992800-1719005400@springlodge1174.com
SUMMARY:June Stated Meeting
DESCRIPTION:Meal at 6 PM ; Meeting at 7 PM
URL:https://springlodge1174.com/event/june-stated-meeting/
END:VEVENT
END:VCALENDAR