BEGIN:VCALENDAR
VERSION:2.0
PRODID:-//The Lodge - ECPv6.15.16.1//NONSGML v1.0//EN
CALSCALE:GREGORIAN
METHOD:PUBLISH
X-ORIGINAL-URL:https://springlodge1174.com
X-WR-CALDESC:Events for The Lodge
REFRESH-INTERVAL;VALUE=DURATION:PT1H
X-Robots-Tag:noindex
X-PUBLISHED-TTL:PT1H
BEGIN:VTIMEZONE
TZID:America/Chicago
BEGIN:DAYLIGHT
TZOFFSETFROM:-0600
TZOFFSETTO:-0500
TZNAME:CDT
DTSTART:20230312T080000
END:DAYLIGHT
BEGIN:STANDARD
TZOFFSETFROM:-0500
TZOFFSETTO:-0600
TZNAME:CST
DTSTART:20231105T070000
END:STANDARD
BEGIN:DAYLIGHT
TZOFFSETFROM:-0600
TZOFFSETTO:-0500
TZNAME:CDT
DTSTART:20240310T080000
END:DAYLIGHT
BEGIN:STANDARD
TZOFFSETFROM:-0500
TZOFFSETTO:-0600
TZNAME:CST
DTSTART:20241103T070000
END:STANDARD
BEGIN:DAYLIGHT
TZOFFSETFROM:-0600
TZOFFSETTO:-0500
TZNAME:CDT
DTSTART:20250309T080000
END:DAYLIGHT
BEGIN:STANDARD
TZOFFSETFROM:-0500
TZOFFSETTO:-0600
TZNAME:CST
DTSTART:20251102T070000
END:STANDARD
BEGIN:DAYLIGHT
TZOFFSETFROM:-0600
TZOFFSETTO:-0500
TZNAME:CDT
DTSTART:20260308T080000
END:DAYLIGHT
BEGIN:STANDARD
TZOFFSETFROM:-0500
TZOFFSETTO:-0600
TZNAME:CST
DTSTART:20261101T070000
END:STANDARD
END:VTIMEZONE
BEGIN:VEVENT
DTSTART;TZID=America/Chicago:20250520T180000
DTEND;TZID=America/Chicago:20250520T190000
DTSTAMP:20260423T215519
CREATED:20250504T223840Z
LAST-MODIFIED:20250504T223840Z
UID:4944-1747764000-1747767600@springlodge1174.com
SUMMARY:Proficiency Test
DESCRIPTION:All brothers who wish to demonstrate proficiency in opening and closing the four lodges will have the opportunity to do so. We will open a MM lodge at 6:30 PM. This will be the final opportunity for the brothers to certify before the installation of officers. FOLLOWED BY LIFE PROGRAM To be led by Bro. Treasurer.
URL:https://springlodge1174.com/event/proficiency-test/
END:VEVENT
BEGIN:VEVENT
DTSTART;TZID=America/Chicago:20250508T180000
DTEND;TZID=America/Chicago:20250508T200000
DTSTAMP:20260423T215519
CREATED:20250316T152108Z
LAST-MODIFIED:20250316T152143Z
UID:4931-1746727200-1746734400@springlodge1174.com
SUMMARY:Past Master's Night
DESCRIPTION:Meal at 6 PM \nRecognition by 7 PM
URL:https://springlodge1174.com/event/past-masters-night-2/
END:VEVENT
BEGIN:VEVENT
DTSTART;TZID=America/Chicago:20250412T060000
DTEND;TZID=America/Chicago:20250412T233000
DTSTAMP:20260423T215519
CREATED:20250310T162642Z
LAST-MODIFIED:20250310T162642Z
UID:4899-1744437600-1744500600@springlodge1174.com
SUMMARY:Spring Lodge No. 1174 Golf Tournament
DESCRIPTION:6:30 AM – 7:45 AM – Breakfast Registration \n8:00 AM – Game Start
URL:https://springlodge1174.com/event/spring-lodge-no-1174-golf-tournament/
END:VEVENT
BEGIN:VEVENT
DTSTART;TZID=America/Chicago:20250410T180000
DTEND;TZID=America/Chicago:20250410T203000
DTSTAMP:20260423T215519
CREATED:20250310T162441Z
LAST-MODIFIED:20250310T162441Z
UID:4897-1744308000-1744317000@springlodge1174.com
SUMMARY:Called Meeting. Master Mason Degree
DESCRIPTION:Called Meeting. Master Mason Degree. The meeting starts at 7:00 PM. Meal at 6:00 PM. Meal: Filipino Food.
URL:https://springlodge1174.com/event/called-meeting-master-mason-degree-2/
END:VEVENT
BEGIN:VEVENT
DTSTART;TZID=America/Chicago:20250408T180000
DTEND;TZID=America/Chicago:20250408T200000
DTSTAMP:20260423T215519
CREATED:20250310T162337Z
LAST-MODIFIED:20250310T162337Z
UID:4895-1744135200-1744142400@springlodge1174.com
SUMMARY:Scholarship Dinner & Awards Ceremony
DESCRIPTION:Scholarship Dinner & Awards Ceremony. The ceremony starts at 7:00 PM. Meal at 6:00 PM. Meal: Catfish & Shrimp Fried Rice.
URL:https://springlodge1174.com/event/scholarship-dinner-awards-ceremony/
END:VEVENT
BEGIN:VEVENT
DTSTART;TZID=America/Chicago:20250403T170000
DTEND;TZID=America/Chicago:20250403T190000
DTSTAMP:20260423T215519
CREATED:20250310T160416Z
LAST-MODIFIED:20250310T160416Z
UID:4893-1743699600-1743706800@springlodge1174.com
SUMMARY:Knife and Fork Degree
DESCRIPTION:Knife and Fork Degree. The doors open at 5:00 PM. Degree at 6:00 PM. Please take a look at more information in the Fundraising section below.
URL:https://springlodge1174.com/event/knife-and-fork-degree/
END:VEVENT
BEGIN:VEVENT
DTSTART;TZID=America/Chicago:20250329T183000
DTEND;TZID=America/Chicago:20250329T203000
DTSTAMP:20260423T215519
CREATED:20250310T160329Z
LAST-MODIFIED:20250310T160329Z
UID:4891-1743273000-1743280200@springlodge1174.com
SUMMARY:Date Night at Casa Medina
DESCRIPTION:Date Night at Casa Medina. Meet up at 6:45 PM @ 28777 Interstate 45 North Spring\, TX 77381.
URL:https://springlodge1174.com/event/date-night-at-casa-medina/
END:VEVENT
BEGIN:VEVENT
DTSTART;TZID=America/Chicago:20250320T180000
DTEND;TZID=America/Chicago:20250320T210000
DTSTAMP:20260423T215519
CREATED:20250310T160250Z
LAST-MODIFIED:20250310T160250Z
UID:4889-1742493600-1742504400@springlodge1174.com
SUMMARY:March Stated Meeting
DESCRIPTION:March Stated Meeting & RW Bill H. Taunton\, Masonic District #30-D Official Visit. The open portion starts at 7:00 PM. The closed portion starts at 7:30 PM. Meal at 6:00 PM. Meal: Savory pork with coconut milk\, smoked chicken Wings w/rice.
URL:https://springlodge1174.com/event/march-stated-meeting-2/
END:VEVENT
BEGIN:VEVENT
DTSTART;TZID=America/Chicago:20250318T180000
DTEND;TZID=America/Chicago:20250318T190000
DTSTAMP:20260423T215519
CREATED:20250310T160158Z
LAST-MODIFIED:20250310T160158Z
UID:4887-1742320800-1742324400@springlodge1174.com
SUMMARY:March Officers Meeting
DESCRIPTION:March Officers Meeting. The meeting starts at 6:00 PM. Expecting Officers/Committee Chair to submit their report to WM and Bro. Secretary via email or hard copy.
URL:https://springlodge1174.com/event/march-officers-meeting/
END:VEVENT
BEGIN:VEVENT
DTSTART;TZID=America/Chicago:20250314T183000
DTEND;TZID=America/Chicago:20250314T203000
DTSTAMP:20260423T215519
CREATED:20250203T020517Z
LAST-MODIFIED:20250203T020517Z
UID:4868-1741977000-1741984200@springlodge1174.com
SUMMARY:GOLF TOURNAMENT CAMPAIGN
DESCRIPTION:Brothers of Spring Lodge\, \nWe have officially kicked off our Golf Tournament campaign. \nIf you have time to join\, I would greatly appreciate your support. Below is the list of lodges I plan to visit. \nPlease don’t hesitate to contact me if you decide to tag along. \nLodges to Visit to Advertise Our Golf Tournament: \n\nGray Lodge No. 329: Wednesday\, Feb. 5th\nCypress Lodge No. 1423: Tuesday\, Feb. 11th\nHolland Lodge No. 1: Wednesday\, Feb. 12th\nTomball Lodge No. 1096: Thursday\, Feb. 13th\nHumble Lodge No. 979: Tuesday\, Feb. 25th\nSolidarity Lodge No. 1457: Friday\, Mar. 14th\n\nLooking forward to seeing you there! \nBro. R. Rinosa\nGolf Tournament Chair\nSpring Lodge No. 1174 Past Master
URL:https://springlodge1174.com/event/golf-tournament-campaign-6/
END:VEVENT
BEGIN:VEVENT
DTSTART;TZID=America/Chicago:20250313T180000
DTEND;TZID=America/Chicago:20250313T200000
DTSTAMP:20260423T215519
CREATED:20250310T160103Z
LAST-MODIFIED:20250310T160103Z
UID:4885-1741888800-1741896000@springlodge1174.com
SUMMARY:DDGM Visit Practice
DESCRIPTION:DDGM Visit Practice. The practice starts at 7:00 PM. Meal at 6:00 PM. Meal: Green beans with ground beef w/Rice and Corn. 
URL:https://springlodge1174.com/event/ddgm-visit-practice/
END:VEVENT
BEGIN:VEVENT
DTSTART;TZID=America/Chicago:20250311T180000
DTEND;TZID=America/Chicago:20250311T190000
DTSTAMP:20260423T215519
CREATED:20250310T160020Z
LAST-MODIFIED:20250310T160020Z
UID:4883-1741716000-1741719600@springlodge1174.com
SUMMARY:Recurring Activities/Events Meeting
DESCRIPTION:Recurring Activities/Events Meeting. The meeting starts at 6:00 PM.
URL:https://springlodge1174.com/event/recurring-activities-events-meeting-2/
END:VEVENT
BEGIN:VEVENT
DTSTART;TZID=America/Chicago:20250308T110000
DTEND;TZID=America/Chicago:20250308T130000
DTSTAMP:20260423T215519
CREATED:20250203T015333Z
LAST-MODIFIED:20250203T015333Z
UID:4850-1741431600-1741438800@springlodge1174.com
SUMMARY:Golden Trowel Awards
DESCRIPTION:Golden Trowel Awards. The ceremony starts at 11:00 AM\, with a light meal to follow.
URL:https://springlodge1174.com/event/golden-trowel-awards/
END:VEVENT
BEGIN:VEVENT
DTSTART;TZID=America/Chicago:20250225T183000
DTEND;TZID=America/Chicago:20250225T203000
DTSTAMP:20260423T215519
CREATED:20250203T020415Z
LAST-MODIFIED:20250203T020415Z
UID:4866-1740508200-1740515400@springlodge1174.com
SUMMARY:GOLF TOURNAMENT CAMPAIGN
DESCRIPTION:Brothers of Spring Lodge\, \nWe have officially kicked off our Golf Tournament campaign. \nIf you have time to join\, I would greatly appreciate your support. Below is the list of lodges I plan to visit. \nPlease don’t hesitate to contact me if you decide to tag along. \nLodges to Visit to Advertise Our Golf Tournament: \n\nGray Lodge No. 329: Wednesday\, Feb. 5th\nCypress Lodge No. 1423: Tuesday\, Feb. 11th\nHolland Lodge No. 1: Wednesday\, Feb. 12th\nTomball Lodge No. 1096: Thursday\, Feb. 13th\nHumble Lodge No. 979: Tuesday\, Feb. 25th\nSolidarity Lodge No. 1457: Friday\, Mar. 14th\n\nLooking forward to seeing you there! \nBro. R. Rinosa\nGolf Tournament Chair\nSpring Lodge No. 1174 Past Master
URL:https://springlodge1174.com/event/golf-tournament-campaign-5/
END:VEVENT
BEGIN:VEVENT
DTSTART;TZID=America/Chicago:20250220T170000
DTEND;TZID=America/Chicago:20250220T203000
DTSTAMP:20260423T215519
CREATED:20250203T015238Z
LAST-MODIFIED:20250203T015238Z
UID:4848-1740070800-1740083400@springlodge1174.com
SUMMARY:February Stated Meeting
DESCRIPTION:February Stated Meeting. The open portion starts at 7:00 PM. The closed portion starts at 7:30 PM. Bob Phillips Memorial Rib Cook-Off. The door opens at 5:00 PM\, and Dinner is served at 6:00 PM. Clink on link to enter: https://signup.com/go/WfWyzxR .See JW’s message for more details.
URL:https://springlodge1174.com/event/february-stated-meeting-2/
END:VEVENT
BEGIN:VEVENT
DTSTART;TZID=America/Chicago:20250218T180000
DTEND;TZID=America/Chicago:20250218T190000
DTSTAMP:20260423T215519
CREATED:20250203T015155Z
LAST-MODIFIED:20250203T015155Z
UID:4846-1739901600-1739905200@springlodge1174.com
SUMMARY:February Officer Meeting
DESCRIPTION:February Officer Meeting at 6:30 PM. Expecting Officers/Committee Chair to submit their report to WM and Bro. Secretary via email or hard copy.
URL:https://springlodge1174.com/event/february-officer-meeting/
END:VEVENT
BEGIN:VEVENT
DTSTART;TZID=America/Chicago:20250215T170000
DTEND;TZID=America/Chicago:20250215T190000
DTSTAMP:20260423T215519
CREATED:20250203T015109Z
LAST-MODIFIED:20250203T015109Z
UID:4844-1739638800-1739646000@springlodge1174.com
SUMMARY:Valentine Supper/Ladies Appreciation Evening
DESCRIPTION:The door opens at 5:00 PM\, and Dinner is served at 6:00 PM. Clink on link to RSVP: https://signup.com/go/uafVKJS
URL:https://springlodge1174.com/event/valentine-supper-ladies-appreciation-evening/
END:VEVENT
BEGIN:VEVENT
DTSTART;TZID=America/Chicago:20250213T183000
DTEND;TZID=America/Chicago:20250213T203000
DTSTAMP:20260423T215519
CREATED:20250203T020335Z
LAST-MODIFIED:20250203T020335Z
UID:4864-1739471400-1739478600@springlodge1174.com
SUMMARY:GOLF TOURNAMENT CAMPAIGN
DESCRIPTION:Brothers of Spring Lodge\, \nWe have officially kicked off our Golf Tournament campaign. \nIf you have time to join\, I would greatly appreciate your support. Below is the list of lodges I plan to visit. \nPlease don’t hesitate to contact me if you decide to tag along. \nLodges to Visit to Advertise Our Golf Tournament: \n\nGray Lodge No. 329: Wednesday\, Feb. 5th\nCypress Lodge No. 1423: Tuesday\, Feb. 11th\nHolland Lodge No. 1: Wednesday\, Feb. 12th\nTomball Lodge No. 1096: Thursday\, Feb. 13th\nHumble Lodge No. 979: Tuesday\, Feb. 25th\nSolidarity Lodge No. 1457: Friday\, Mar. 14th\n\nLooking forward to seeing you there! \nBro. R. Rinosa\nGolf Tournament Chair\nSpring Lodge No. 1174 Past Master
URL:https://springlodge1174.com/event/golf-tournament-campaign-4/
END:VEVENT
BEGIN:VEVENT
DTSTART;TZID=America/Chicago:20250212T183000
DTEND;TZID=America/Chicago:20250212T203000
DTSTAMP:20260423T215519
CREATED:20250203T020226Z
LAST-MODIFIED:20250203T020226Z
UID:4862-1739385000-1739392200@springlodge1174.com
SUMMARY:GOLF TOURNAMENT CAMPAIGN
DESCRIPTION:Brothers of Spring Lodge\, \nWe have officially kicked off our Golf Tournament campaign. \nIf you have time to join\, I would greatly appreciate your support. Below is the list of lodges I plan to visit. \nPlease don’t hesitate to contact me if you decide to tag along. \nLodges to Visit to Advertise Our Golf Tournament: \n\nGray Lodge No. 329: Wednesday\, Feb. 5th\nCypress Lodge No. 1423: Tuesday\, Feb. 11th\nHolland Lodge No. 1: Wednesday\, Feb. 12th\nTomball Lodge No. 1096: Thursday\, Feb. 13th\nHumble Lodge No. 979: Tuesday\, Feb. 25th\nSolidarity Lodge No. 1457: Friday\, Mar. 14th\n\nLooking forward to seeing you there! \nBro. R. Rinosa\nGolf Tournament Chair\nSpring Lodge No. 1174 Past Master
URL:https://springlodge1174.com/event/golf-tournament-campaign-3/
END:VEVENT
BEGIN:VEVENT
DTSTART;TZID=America/Chicago:20250211T183000
DTEND;TZID=America/Chicago:20250211T203000
DTSTAMP:20260423T215519
CREATED:20250203T020059Z
LAST-MODIFIED:20250203T020059Z
UID:4860-1739298600-1739305800@springlodge1174.com
SUMMARY:GOLF TOURNAMENT CAMPAIGN
DESCRIPTION:Brothers of Spring Lodge\, \nWe have officially kicked off our Golf Tournament campaign. \nIf you have time to join\, I would greatly appreciate your support. Below is the list of lodges I plan to visit. \nPlease don’t hesitate to contact me if you decide to tag along. \nLodges to Visit to Advertise Our Golf Tournament: \n\nGray Lodge No. 329: Wednesday\, Feb. 5th\nCypress Lodge No. 1423: Tuesday\, Feb. 11th\nHolland Lodge No. 1: Wednesday\, Feb. 12th\nTomball Lodge No. 1096: Thursday\, Feb. 13th\nHumble Lodge No. 979: Tuesday\, Feb. 25th\nSolidarity Lodge No. 1457: Friday\, Mar. 14th\n\nLooking forward to seeing you there! \nBro. R. Rinosa\nGolf Tournament Chair\nSpring Lodge No. 1174 Past Master
URL:https://springlodge1174.com/event/golf-tournament-campaign-2/
END:VEVENT
BEGIN:VEVENT
DTSTART;TZID=America/Chicago:20250211T180000
DTEND;TZID=America/Chicago:20250211T190000
DTSTAMP:20260423T215519
CREATED:20250203T015016Z
LAST-MODIFIED:20250203T015016Z
UID:4842-1739296800-1739300400@springlodge1174.com
SUMMARY:Recurring Activities/Events Meeting
DESCRIPTION:Recurring Activities/Events Meeting. Meeting starts at 6:00 PM.
URL:https://springlodge1174.com/event/recurring-activities-events-meeting/
END:VEVENT
BEGIN:VEVENT
DTSTART;TZID=America/Chicago:20250206T190000
DTEND;TZID=America/Chicago:20250206T210000
DTSTAMP:20260423T215519
CREATED:20250203T014932Z
LAST-MODIFIED:20250203T014932Z
UID:4840-1738868400-1738875600@springlodge1174.com
SUMMARY:Called Meeting FC Lodge
DESCRIPTION:Called Meeting FC Lodge. The meeting starts at 7:00 PM. Meal at 6:00 PM. Meal: Biscuits and Gravy w/ Bacon\, Sausage and Egg.
URL:https://springlodge1174.com/event/called-meeting-fc-lodge/
END:VEVENT
BEGIN:VEVENT
DTSTART;TZID=America/Chicago:20250205T183000
DTEND;TZID=America/Chicago:20250205T203000
DTSTAMP:20260423T215519
CREATED:20250203T020008Z
LAST-MODIFIED:20250203T020008Z
UID:4858-1738780200-1738787400@springlodge1174.com
SUMMARY:GOLF TOURNAMENT CAMPAIGN
DESCRIPTION:Brothers of Spring Lodge\, \nWe have officially kicked off our Golf Tournament campaign. \nIf you have time to join\, I would greatly appreciate your support. Below is the list of lodges I plan to visit. \nPlease don’t hesitate to contact me if you decide to tag along. \nLodges to Visit to Advertise Our Golf Tournament: \n\nGray Lodge No. 329: Wednesday\, Feb. 5th\nCypress Lodge No. 1423: Tuesday\, Feb. 11th\nHolland Lodge No. 1: Wednesday\, Feb. 12th\nTomball Lodge No. 1096: Thursday\, Feb. 13th\nHumble Lodge No. 979: Tuesday\, Feb. 25th\nSolidarity Lodge No. 1457: Friday\, Mar. 14th\n\nLooking forward to seeing you there! \nBro. R. Rinosa\nGolf Tournament Chair\nSpring Lodge No. 1174 Past Master
URL:https://springlodge1174.com/event/golf-tournament-campaign/
END:VEVENT
BEGIN:VEVENT
DTSTART;TZID=America/Chicago:20250204T180000
DTEND;TZID=America/Chicago:20250204T190000
DTSTAMP:20260423T215519
CREATED:20250203T014834Z
LAST-MODIFIED:20250203T014834Z
UID:4838-1738692000-1738695600@springlodge1174.com
SUMMARY:Recurring Fundraising Meeting
DESCRIPTION:Recurring Fundraising Meeting. Meeting starts at 6:00 PM.
URL:https://springlodge1174.com/event/recurring-fundraising-meeting-2/
END:VEVENT
BEGIN:VEVENT
DTSTART;VALUE=DATE:20250116
DTEND;VALUE=DATE:20250119
DTSTAMP:20260423T215519
CREATED:20241216T031904Z
LAST-MODIFIED:20241216T031951Z
UID:4816-1736985600-1737244799@springlodge1174.com
SUMMARY:Lodge Is Dark - GLOTX Annual Communication
DESCRIPTION:
URL:https://springlodge1174.com/event/lodge-is-dark-glotx-annual-communication/
END:VEVENT
BEGIN:VEVENT
DTSTART;TZID=America/Chicago:20250111T070000
DTEND;TZID=America/Chicago:20250111T110000
DTSTAMP:20260423T215519
CREATED:20240819T012925Z
LAST-MODIFIED:20240819T012925Z
UID:4652-1736578800-1736593200@springlodge1174.com
SUMMARY:Breakfast for the homeless - Conroe
DESCRIPTION:7am – 1030am
URL:https://springlodge1174.com/event/breakfast-for-the-homeless-conroe/
END:VEVENT
BEGIN:VEVENT
DTSTART;TZID=America/Chicago:20250107T180000
DTEND;TZID=America/Chicago:20250107T200000
DTSTAMP:20260423T215519
CREATED:20241222T232713Z
LAST-MODIFIED:20241222T232713Z
UID:4818-1736272800-1736280000@springlodge1174.com
SUMMARY:Called Meeting EA Degree
DESCRIPTION:The Called Meeting Starts at 7:00 PM. Meal at 6:00 PM. Meal: Filipino Bistek with Rice.
URL:https://springlodge1174.com/event/called-meeting-ea-degree-4/
END:VEVENT
BEGIN:VEVENT
DTSTART;TZID=America/Chicago:20250102T180000
DTEND;TZID=America/Chicago:20250102T210000
DTSTAMP:20260423T215519
CREATED:20241216T031211Z
LAST-MODIFIED:20241216T031211Z
UID:4808-1735840800-1735851600@springlodge1174.com
SUMMARY:Called Meeting MM Degree
DESCRIPTION:The Called Meeting Starts at 7:00 PM. Meal at 6:00 PM. Meal: Catfish and Fried Rice.
URL:https://springlodge1174.com/event/called-meeting-mm-degree-2/
END:VEVENT
BEGIN:VEVENT
DTSTART;TZID=America/Chicago:20241228T083000
DTEND;TZID=America/Chicago:20241229T163000
DTSTAMP:20260423T215519
CREATED:20241110T230559Z
LAST-MODIFIED:20241110T230559Z
UID:4752-1735374600-1735489800@springlodge1174.com
SUMMARY:OTS PARKING EVENT
DESCRIPTION:PARKING EVENTS WILL BE EVERY SATURDAY & SUNDAY FROM 11/02 TO 12/29
URL:https://springlodge1174.com/event/ots-parking-event-7/
END:VEVENT
BEGIN:VEVENT
DTSTART;VALUE=DATE:20241224
DTEND;VALUE=DATE:20250101
DTSTAMP:20260423T215519
CREATED:20241110T222152Z
LAST-MODIFIED:20241125T032705Z
UID:4737-1734998400-1735689599@springlodge1174.com
SUMMARY:LODGE IS DARK
DESCRIPTION:
URL:https://springlodge1174.com/event/lodge-is-dark-4/
END:VEVENT
END:VCALENDAR