BEGIN:VCALENDAR
VERSION:2.0
PRODID:-//The Lodge - ECPv6.15.16.1//NONSGML v1.0//EN
CALSCALE:GREGORIAN
METHOD:PUBLISH
X-WR-CALNAME:The Lodge
X-ORIGINAL-URL:https://springlodge1174.com
X-WR-CALDESC:Events for The Lodge
REFRESH-INTERVAL;VALUE=DURATION:PT1H
X-Robots-Tag:noindex
X-PUBLISHED-TTL:PT1H
BEGIN:VTIMEZONE
TZID:UTC
BEGIN:STANDARD
TZOFFSETFROM:+0000
TZOFFSETTO:+0000
TZNAME:UTC
DTSTART:20220101T000000
END:STANDARD
END:VTIMEZONE
BEGIN:VEVENT
DTSTART;TZID=UTC:20230314T190000
DTEND;TZID=UTC:20230314T210000
DTSTAMP:20260425T165051
CREATED:20230506T062916Z
LAST-MODIFIED:20230506T062916Z
UID:2667-1678820400-1678827600@springlodge1174.com
SUMMARY:03/14/2023 (Tuesday): MM turn in at 7pm. Meal at 6pm. Meal: TBA.
DESCRIPTION:
URL:https://springlodge1174.com/event/03-14-2023-tuesday-mm-turn-in-at-7pm-meal-at-6pm-meal-tba/
END:VEVENT
BEGIN:VEVENT
DTSTART;TZID=UTC:20230225T190000
DTEND;TZID=UTC:20230225T210000
DTSTAMP:20260425T165051
CREATED:20230506T062832Z
LAST-MODIFIED:20230506T062832Z
UID:2665-1677351600-1677358800@springlodge1174.com
SUMMARY:02/25/2023 (Saturday): 11:00am to 6:00pm. Game day at lodge. Bring your family; bring your friends! Br Niver: 713-992-1284\, sirlancelot34@yahoo.com
DESCRIPTION:
URL:https://springlodge1174.com/event/02-25-2023-saturday-1100am-to-600pm-game-day-at-lodge-bring-your-family-bring-your-friends-br-niver-713-992-1284-sirlancelot34yahoo-com/
END:VEVENT
BEGIN:VEVENT
DTSTART;TZID=UTC:20230221T190000
DTEND;TZID=UTC:20230221T210000
DTSTAMP:20260425T165051
CREATED:20230506T062733Z
LAST-MODIFIED:20230506T062733Z
UID:2663-1677006000-1677013200@springlodge1174.com
SUMMARY:02/21/2023 (Tuesday): 7:00pm: EA Return (Part II) followed by FC degree. Meal at 6pm. Meal TBA.
DESCRIPTION:
URL:https://springlodge1174.com/event/02-21-2023-tuesday-700pm-ea-return-part-ii-followed-by-fc-degree-meal-at-6pm-meal-tba/
END:VEVENT
BEGIN:VEVENT
DTSTART;TZID=UTC:20230217T190000
DTEND;TZID=UTC:20230217T210000
DTSTAMP:20260425T165051
CREATED:20230506T062642Z
LAST-MODIFIED:20230506T062642Z
UID:2661-1676660400-1676667600@springlodge1174.com
SUMMARY:02/17/2023 (Friday): DATE NIGHT at THE OLIVE OIL RESTAURANT - 373 Sawdust Rd\, Spring\, TX 77380. Meet up time at restaurant 7:00 PM. PLEASE RSVP W/ Br. JW Rinosa No Later Than February 14th.
DESCRIPTION:
URL:https://springlodge1174.com/event/02-17-2023-friday-date-night-at-the-olive-oil-restaurant-373-sawdust-rd-spring-tx-77380-meet-up-time-at-restaurant-700-pm-please-rsvp-w-br-jw-rinosa-no-later-than-february-14th/
END:VEVENT
BEGIN:VEVENT
DTSTART;TZID=UTC:20230216T190000
DTEND;TZID=UTC:20230216T190000
DTSTAMP:20260425T165051
CREATED:20230506T062552Z
LAST-MODIFIED:20230506T062552Z
UID:2659-1676574000-1676574000@springlodge1174.com
SUMMARY:02/16/2023 (Thursday): Stated Meeting for February; open portion starts at 7:00pm; closed portion starts at 7:30pm. DDGM will make an unofficial visit to Spring Lodge this date. Meal at 6:00pm. Meal: TBD
DESCRIPTION:
URL:https://springlodge1174.com/event/02-16-2023-thursday-stated-meeting-for-february-open-portion-starts-at-700pm-closed-portion-starts-at-730pm-ddgm-will-make-an-unofficial-visit-to-spring-lodge-this-date-meal-at-600pm-meal/
END:VEVENT
BEGIN:VEVENT
DTSTART;TZID=UTC:20230214T180000
DTEND;TZID=UTC:20230214T200000
DTSTAMP:20260425T165051
CREATED:20230506T062509Z
LAST-MODIFIED:20230506T062509Z
UID:2657-1676397600-1676404800@springlodge1174.com
SUMMARY:2/14/2023 (Tuesday): 6:45pm: Meal at 6pm. Meal: TBA. Officer Meeting for February. All officers should make a genuine effort to attend and have written reports ready in advance. All are welcome.
DESCRIPTION:
URL:https://springlodge1174.com/event/2-14-2023-tuesday-645pm-meal-at-6pm-meal-tba-officer-meeting-for-february-all-officers-should-make-a-genuine-effort-to-attend-and-have-written-reports-ready-in-advance-all-are-welcome/
END:VEVENT
BEGIN:VEVENT
DTSTART;TZID=UTC:20230210T170000
DTEND;TZID=UTC:20230210T190000
DTSTAMP:20260425T165051
CREATED:20230506T062307Z
LAST-MODIFIED:20230506T062406Z
UID:2654-1676048400-1676055600@springlodge1174.com
SUMMARY:02/10/2023 (Friday): Masonic Social Hour\, 5:00pm at Hop Scholar on Rayford Rd. All are welcome.
DESCRIPTION:
URL:https://springlodge1174.com/event/02-10-2023-friday-masonic-social-hour-500pm-at-hop-scholar-on-rayford-rd-all-are-welcome/
END:VEVENT
BEGIN:VEVENT
DTSTART;TZID=UTC:20230209T180000
DTEND;TZID=UTC:20230209T200000
DTSTAMP:20260425T165051
CREATED:20230506T062146Z
LAST-MODIFIED:20230506T062146Z
UID:2652-1675965600-1675972800@springlodge1174.com
SUMMARY:02/09/2023 (Thursday): TBA. Meal at 6pm. Meal: BFD\, Part II.
DESCRIPTION:
URL:https://springlodge1174.com/event/02-09-2023-thursday-tba-meal-at-6pm-meal-bfd-part-ii/
END:VEVENT
BEGIN:VEVENT
DTSTART;TZID=UTC:20230207T180000
DTEND;TZID=UTC:20230207T200000
DTSTAMP:20260425T165051
CREATED:20230506T061923Z
LAST-MODIFIED:20230506T061923Z
UID:2647-1675792800-1675800000@springlodge1174.com
SUMMARY:02/07/2023 (Tuesday): MM turn in at 7pm. Meal at 6pm. Meal BFD (Breakfast for Dinner).
DESCRIPTION:
URL:https://springlodge1174.com/event/02-07-2023-tuesday-mm-turn-in-at-7pm-meal-at-6pm-meal-bfd-breakfast-for-dinner/
END:VEVENT
END:VCALENDAR