BEGIN:VCALENDAR
VERSION:2.0
PRODID:-//The Lodge - ECPv6.15.16.1//NONSGML v1.0//EN
CALSCALE:GREGORIAN
METHOD:PUBLISH
X-WR-CALNAME:The Lodge
X-ORIGINAL-URL:https://springlodge1174.com
X-WR-CALDESC:Events for The Lodge
REFRESH-INTERVAL;VALUE=DURATION:PT1H
X-Robots-Tag:noindex
X-PUBLISHED-TTL:PT1H
BEGIN:VTIMEZONE
TZID:UTC
BEGIN:STANDARD
TZOFFSETFROM:+0000
TZOFFSETTO:+0000
TZNAME:UTC
DTSTART:20220101T000000
END:STANDARD
END:VTIMEZONE
BEGIN:VEVENT
DTSTART;TZID=UTC:20230207T180000
DTEND;TZID=UTC:20230207T200000
DTSTAMP:20260425T233127
CREATED:20230506T061923Z
LAST-MODIFIED:20230506T061923Z
UID:2647-1675792800-1675800000@springlodge1174.com
SUMMARY:02/07/2023 (Tuesday): MM turn in at 7pm. Meal at 6pm. Meal BFD (Breakfast for Dinner).
DESCRIPTION:
URL:https://springlodge1174.com/event/02-07-2023-tuesday-mm-turn-in-at-7pm-meal-at-6pm-meal-bfd-breakfast-for-dinner/
END:VEVENT
END:VCALENDAR