BEGIN:VCALENDAR
VERSION:2.0
PRODID:-//The Lodge - ECPv6.15.16.1//NONSGML v1.0//EN
CALSCALE:GREGORIAN
METHOD:PUBLISH
X-WR-CALNAME:The Lodge
X-ORIGINAL-URL:https://springlodge1174.com
X-WR-CALDESC:Events for The Lodge
REFRESH-INTERVAL;VALUE=DURATION:PT1H
X-Robots-Tag:noindex
X-PUBLISHED-TTL:PT1H
BEGIN:VTIMEZONE
TZID:America/Chicago
BEGIN:DAYLIGHT
TZOFFSETFROM:-0600
TZOFFSETTO:-0500
TZNAME:CDT
DTSTART:20220313T080000
END:DAYLIGHT
BEGIN:STANDARD
TZOFFSETFROM:-0500
TZOFFSETTO:-0600
TZNAME:CST
DTSTART:20221106T070000
END:STANDARD
BEGIN:DAYLIGHT
TZOFFSETFROM:-0600
TZOFFSETTO:-0500
TZNAME:CDT
DTSTART:20230312T080000
END:DAYLIGHT
BEGIN:STANDARD
TZOFFSETFROM:-0500
TZOFFSETTO:-0600
TZNAME:CST
DTSTART:20231105T070000
END:STANDARD
BEGIN:DAYLIGHT
TZOFFSETFROM:-0600
TZOFFSETTO:-0500
TZNAME:CDT
DTSTART:20240310T080000
END:DAYLIGHT
BEGIN:STANDARD
TZOFFSETFROM:-0500
TZOFFSETTO:-0600
TZNAME:CST
DTSTART:20241103T070000
END:STANDARD
END:VTIMEZONE
BEGIN:VTIMEZONE
TZID:UTC
BEGIN:STANDARD
TZOFFSETFROM:+0000
TZOFFSETTO:+0000
TZNAME:UTC
DTSTART:20220101T000000
END:STANDARD
END:VTIMEZONE
BEGIN:VEVENT
DTSTART;TZID=America/Chicago:20230926T180000
DTEND;TZID=America/Chicago:20230926T180000
DTSTAMP:20260425T105557
CREATED:20230813T151447Z
LAST-MODIFIED:20230813T151447Z
UID:3737-1695751200-1695751200@springlodge1174.com
SUMMARY:Fundraising Monthly Recurring Meeting
DESCRIPTION:Fundraising Monthly Recurring Meeting. The meeting Starts at 6:00 PM.
URL:https://springlodge1174.com/event/fundraising-monthly-recurring-meeting/
END:VEVENT
BEGIN:VEVENT
DTSTART;TZID=America/Chicago:20230921T193000
DTEND;TZID=America/Chicago:20230921T203000
DTSTAMP:20260425T105557
CREATED:20230807T020849Z
LAST-MODIFIED:20230813T151216Z
UID:3728-1695324600-1695328200@springlodge1174.com
SUMMARY:September Stated Meeting
DESCRIPTION:September Stated Meeting. DDGM SECOND OFFICAL VISIT. The open portion starts at 7:00 PM. The closed portion starts at 7:30 PM. Meal at 6:00 PM
URL:https://springlodge1174.com/event/september-stated-meeting/
END:VEVENT
BEGIN:VEVENT
DTSTART;TZID=America/Chicago:20230919T183000
DTEND;TZID=America/Chicago:20230919T190000
DTSTAMP:20260425T105557
CREATED:20230807T020752Z
LAST-MODIFIED:20230807T020752Z
UID:3726-1695148200-1695150000@springlodge1174.com
SUMMARY:September Officer Meeting
DESCRIPTION:September Meeting at 6:30 PM. Expecting Officers/Committee Chair to submit their report to WM and Bro. Secretary via email or hard copy.
URL:https://springlodge1174.com/event/september-officer-meeting/
END:VEVENT
BEGIN:VEVENT
DTSTART;TZID=America/Chicago:20230914T180000
DTEND;TZID=America/Chicago:20230914T200000
DTSTAMP:20260425T105557
CREATED:20230821T010807Z
LAST-MODIFIED:20230910T220358Z
UID:3750-1694714400-1694721600@springlodge1174.com
SUMMARY:ENTERED APPRENTICE DEGREE
DESCRIPTION:EA Degree starts at 6:45 PM\, encouraging all EAs\, FCs & MMs to participate. Meal at 6:00 PM. Meal: Filipino Food
URL:https://springlodge1174.com/event/entered-apprentice-degree/
END:VEVENT
BEGIN:VEVENT
DTSTART;TZID=America/Chicago:20230912T180000
DTEND;TZID=America/Chicago:20230912T190000
DTSTAMP:20260425T105557
CREATED:20230821T010248Z
LAST-MODIFIED:20230821T010528Z
UID:3744-1694541600-1694545200@springlodge1174.com
SUMMARY:MASONIC EDUCATION - MASONIC JOURNEY
DESCRIPTION:“Masonic Journey” Open to all\, including petitioners\, starting at 6:30 PM. Meal: Potluck style or Bring your own Meal.
URL:https://springlodge1174.com/event/masonic-education-masonic-journey/
END:VEVENT
BEGIN:VEVENT
DTSTART;TZID=America/Chicago:20230907T180000
DTEND;TZID=America/Chicago:20230907T200000
DTSTAMP:20260425T105557
CREATED:20230807T020432Z
LAST-MODIFIED:20230821T010153Z
UID:3722-1694109600-1694116800@springlodge1174.com
SUMMARY:SERVICE AWARDS
DESCRIPTION:Please join us on this day to present the 50th Service Awards to our two esteemed brothers. Meal at 6:00 PM
URL:https://springlodge1174.com/event/service-awards/
END:VEVENT
BEGIN:VEVENT
DTSTART;TZID=America/Chicago:20230905T180000
DTEND;TZID=America/Chicago:20230905T190000
DTSTAMP:20260425T105557
CREATED:20230821T005635Z
LAST-MODIFIED:20230821T005635Z
UID:3739-1693936800-1693940400@springlodge1174.com
SUMMARY:ACTIVITIES/EVENTS RECURRING UPDATE
DESCRIPTION:Activities/Events Monthly Recurring Meeting. Follow-up about Festive Board\, Thanksgiving\, Christmas Party\, First Responders Appreciation dinner\, Past Master Night\, Reading Program\, etc…  \nThe meeting Starts at 6:00 PM. Meal: Potluck style or Bring your own Meal.
URL:https://springlodge1174.com/event/activities-events-recurring-update/
END:VEVENT
BEGIN:VEVENT
DTSTART;TZID=America/Chicago:20230831T180000
DTEND;TZID=America/Chicago:20230831T200000
DTSTAMP:20260425T105557
CREATED:20230724T124320Z
LAST-MODIFIED:20230724T124320Z
UID:3669-1693504800-1693512000@springlodge1174.com
SUMMARY:Meatloaf Cook-Off!
DESCRIPTION:Bring your best loaf for this no bananas barred meaty extravaganza. Corn\, Mashed Potatoes\, Salad
URL:https://springlodge1174.com/event/meatloaf-cook-off/
END:VEVENT
BEGIN:VEVENT
DTSTART;TZID=America/Chicago:20230826T183000
DTEND;TZID=America/Chicago:20230826T193000
DTSTAMP:20260425T105557
CREATED:20230821T005842Z
LAST-MODIFIED:20230821T005842Z
UID:3741-1693074600-1693078200@springlodge1174.com
SUMMARY:DATE NIGHT
DESCRIPTION:Sawyer Park Ice House (314 Pruitt Road\, Spring). Meeting Time 6:30 PM
URL:https://springlodge1174.com/event/date-night-2/
END:VEVENT
BEGIN:VEVENT
DTSTART;TZID=America/Chicago:20230824T183000
DTEND;TZID=America/Chicago:20230824T190000
DTSTAMP:20260425T105557
CREATED:20230807T020158Z
LAST-MODIFIED:20230807T020158Z
UID:3718-1692901800-1692903600@springlodge1174.com
SUMMARY:Mentorship/Mentees Meeting
DESCRIPTION:The meeting starts at 6:30 PM. Requiring all EAs and Mentors to attend this meeting. Meal at 6:00 PM
URL:https://springlodge1174.com/event/mentorship-mentees-meeting/
END:VEVENT
BEGIN:VEVENT
DTSTART;TZID=America/Chicago:20230822T180000
DTEND;TZID=America/Chicago:20230822T190000
DTSTAMP:20260425T105557
CREATED:20230702T224437Z
LAST-MODIFIED:20230807T020048Z
UID:3236-1692727200-1692730800@springlodge1174.com
SUMMARY:Fundraising Monthly Update
DESCRIPTION:Fundraising Planning Session. The meeting Starts at 6:00 PM. Meal: Potluck style or Bring your own Meal.
URL:https://springlodge1174.com/event/fundraising-planning-session/
END:VEVENT
BEGIN:VEVENT
DTSTART;TZID=America/Chicago:20230817T190000
DTEND;TZID=America/Chicago:20230817T213000
DTSTAMP:20260425T105557
CREATED:20230710T041745Z
LAST-MODIFIED:20230710T041925Z
UID:3592-1692298800-1692307800@springlodge1174.com
SUMMARY:AUGUST STATED MEETING
DESCRIPTION:July Stated Meeting. The open portion starts at 7:00 PM. The closed portion starts at 7:30 PM. Meal at 6:00 PM.
URL:https://springlodge1174.com/event/august-stated-meeting/
END:VEVENT
BEGIN:VEVENT
DTSTART;TZID=America/Chicago:20230815T180000
DTEND;TZID=America/Chicago:20230815T190000
DTSTAMP:20260425T105557
CREATED:20230710T041618Z
LAST-MODIFIED:20230710T041723Z
UID:3589-1692122400-1692126000@springlodge1174.com
SUMMARY:AUGUST OFFICER MEETING
DESCRIPTION:August Officer Meeting at 6:00 PM. Expecting Officers/Committee Chair to submit their report to WM and Bro. Secretary via email or hard copy.
URL:https://springlodge1174.com/event/august-officer-meeting/
END:VEVENT
BEGIN:VEVENT
DTSTART;TZID=America/Chicago:20230812T110000
DTEND;TZID=America/Chicago:20230812T180000
DTSTAMP:20260425T105557
CREATED:20230710T041205Z
LAST-MODIFIED:20230807T015828Z
UID:3587-1691838000-1691863200@springlodge1174.com
SUMMARY:Family Game Day
DESCRIPTION:Family Game Day! 11:00 AM to 6:00 PM. Come one\, Come all! Bring your wife or girlfriend. Bring your kids too. We have games to play or teach you to play. If you have a game you want to play\, bring that too. If we don’t know it\, we will learn it together. Bottom line\, COME PLAY GAMES!! We will have snacks AND a meal.
URL:https://springlodge1174.com/event/family-game-day/
END:VEVENT
BEGIN:VEVENT
DTSTART;TZID=America/Chicago:20230810T173000
DTEND;TZID=America/Chicago:20230810T210000
DTSTAMP:20260425T105557
CREATED:20230724T124137Z
LAST-MODIFIED:20230724T124137Z
UID:3667-1691688600-1691701200@springlodge1174.com
SUMMARY:Lodge Invasion
DESCRIPTION:NO MEAL ON THIS DAY. Please reach out to Bro. Junior Warden for details.
URL:https://springlodge1174.com/event/lodge-invasion/
END:VEVENT
BEGIN:VEVENT
DTSTART;TZID=America/Chicago:20230808T183000
DTEND;TZID=America/Chicago:20230808T193000
DTSTAMP:20260425T105557
CREATED:20230702T225653Z
LAST-MODIFIED:20230724T123946Z
UID:3253-1691519400-1691523000@springlodge1174.com
SUMMARY:Building & Grounds
DESCRIPTION:Building & Grounds/ Lodge Security. The meeting Starts at 6:30 PM. Discussion of the maintenance of the lodge\, work day & risk assessment.
URL:https://springlodge1174.com/event/building-grounds/
END:VEVENT
BEGIN:VEVENT
DTSTART;TZID=America/Chicago:20230805T060000
DTEND;TZID=America/Chicago:20230805T090000
DTSTAMP:20260425T105557
CREATED:20230724T123828Z
LAST-MODIFIED:20230724T123828Z
UID:3665-1691215200-1691226000@springlodge1174.com
SUMMARY:B&G: Lodge Work Day
DESCRIPTION:Clean\, assess\, and maintain. Start at 6:00 AM so that it won’t be too hot. We will try to work as much as we can for a couple of hours.
URL:https://springlodge1174.com/event/bg-lodge-work-day/
END:VEVENT
BEGIN:VEVENT
DTSTART;TZID=America/Chicago:20230803T183000
DTEND;TZID=America/Chicago:20230803T193000
DTSTAMP:20260425T105557
CREATED:20230702T225458Z
LAST-MODIFIED:20230702T225458Z
UID:3250-1691087400-1691091000@springlodge1174.com
SUMMARY:Masonic Education
DESCRIPTION:Masonic Education. A conversation about “Why Join Masonry” is open to all\, including petitioners\, starting at 6:30 PM
URL:https://springlodge1174.com/event/masonic-education/
END:VEVENT
BEGIN:VEVENT
DTSTART;TZID=America/Chicago:20230801T180000
DTEND;TZID=America/Chicago:20230801T190000
DTSTAMP:20260425T105557
CREATED:20230702T225334Z
LAST-MODIFIED:20230702T225334Z
UID:3247-1690912800-1690916400@springlodge1174.com
SUMMARY:Activities/Events Planning Session
DESCRIPTION:Activities/Events Planning Session. The meeting Starts at 6:00 PM. Meal: Potluck style or Bring your own Meal.
URL:https://springlodge1174.com/event/activities-events-planning-session/
END:VEVENT
BEGIN:VEVENT
DTSTART;TZID=America/Chicago:20230727T190000
DTEND;TZID=America/Chicago:20230727T200000
DTSTAMP:20260425T105557
CREATED:20230702T225135Z
LAST-MODIFIED:20230702T225135Z
UID:3244-1690484400-1690488000@springlodge1174.com
SUMMARY:CALLED MEETING: EA DEGREE
DESCRIPTION:EA Degree starts at 7:00 PM\, encouraging all EAs\, FCs & MMs to participate. Meal at 6:00 PM
URL:https://springlodge1174.com/event/called-meeting-ea-degree-2/
END:VEVENT
BEGIN:VEVENT
DTSTART;TZID=America/Chicago:20230720T190000
DTEND;TZID=America/Chicago:20230720T210000
DTSTAMP:20260425T105557
CREATED:20230702T223037Z
LAST-MODIFIED:20230702T223509Z
UID:3232-1689879600-1689886800@springlodge1174.com
SUMMARY:JULY STATED MEETING
DESCRIPTION:July Stated Meeting. The open portion starts at 7:00 PM. The closed portion starts at 7:30 PM. Meal at 6:00 PM.
URL:https://springlodge1174.com/event/july-stated-meeting/
END:VEVENT
BEGIN:VEVENT
DTSTART;TZID=America/Chicago:20230718T180000
DTEND;TZID=America/Chicago:20230718T200000
DTSTAMP:20260425T105557
CREATED:20230702T222824Z
LAST-MODIFIED:20230702T222835Z
UID:3229-1689703200-1689710400@springlodge1174.com
SUMMARY:JULY OFFICER MEETING
DESCRIPTION:July Officer Meeting at 6:00 PM. Expecting Officers/Committee Chair to submit their report to WM and Bro. Secretary via email or hard copy.
URL:https://springlodge1174.com/event/july-officer-meeting/
END:VEVENT
BEGIN:VEVENT
DTSTART;TZID=America/Chicago:20230713T190000
DTEND;TZID=America/Chicago:20230713T210000
DTSTAMP:20260425T105557
CREATED:20230702T222029Z
LAST-MODIFIED:20230702T222225Z
UID:3226-1689274800-1689282000@springlodge1174.com
SUMMARY:CALLED MEETING: EA DEGREE
DESCRIPTION:EA Degree starts at 7:00 PM\, encouraging all EAs\, FCs & MMs to participate. Meal at 6:00 PM
URL:https://springlodge1174.com/event/called-meeting-ea-degree/
END:VEVENT
BEGIN:VEVENT
DTSTART;TZID=America/Chicago:20230711T163000
DTEND;TZID=America/Chicago:20230711T180000
DTSTAMP:20260425T105557
CREATED:20230702T214643Z
LAST-MODIFIED:20230702T214643Z
UID:3215-1689093000-1689098400@springlodge1174.com
SUMMARY:STUDY NIGHT
DESCRIPTION:
URL:https://springlodge1174.com/event/study-night/
END:VEVENT
BEGIN:VEVENT
DTSTART;TZID=UTC:20230706T180000
DTEND;TZID=UTC:20230706T210000
DTSTAMP:20260425T105557
CREATED:20230701T154824Z
LAST-MODIFIED:20230701T154824Z
UID:3020-1688666400-1688677200@springlodge1174.com
SUMMARY:OFFICER MEETING
DESCRIPTION:AGENDA: DUTIES AND RESPONSIBILITIES\, DESIGNATION OF COMMITTEE CHAIR\, LODGE SIGNATORIES. OPEN TO ALL & ENCOURAGING ALL EAs\, FCs & MMs TO PARTICIPATE. OPEN THE LODGE OF SORROW AT 7:30 PM. MEAL AT 6:00 PM.
URL:https://springlodge1174.com/event/officer-meeting/
END:VEVENT
BEGIN:VEVENT
DTSTART;VALUE=DATE:20230704
DTEND;VALUE=DATE:20230705
DTSTAMP:20260425T105557
CREATED:20230701T154711Z
LAST-MODIFIED:20230701T154711Z
UID:3018-1688428800-1688515199@springlodge1174.com
SUMMARY:Holiday
DESCRIPTION:The lodge will be dark
URL:https://springlodge1174.com/event/holiday/
END:VEVENT
BEGIN:VEVENT
DTSTART;TZID=UTC:20230701T150000
DTEND;TZID=UTC:20230701T190000
DTSTAMP:20260425T105557
CREATED:20230701T154626Z
LAST-MODIFIED:20230701T154626Z
UID:3016-1688223600-1688238000@springlodge1174.com
SUMMARY:Installation of Officers
DESCRIPTION:We will begin with the closing of MM Lodge of Sorrow at 3 pm\, followed by a pictorial. Program starts at 4:00 PM\, with dinner to follow. Attire: Business
URL:https://springlodge1174.com/event/installation-of-officers/
END:VEVENT
BEGIN:VEVENT
DTSTART;TZID=UTC:20230316T190000
DTEND;TZID=UTC:20230316T210000
DTSTAMP:20260425T105557
CREATED:20230506T063002Z
LAST-MODIFIED:20230506T063002Z
UID:2669-1678993200-1679000400@springlodge1174.com
SUMMARY:03/16/2023 (Thursday): Stated Meeting for March; open portion starts at 7:00pm; closed portion starts at 7:30pm. DDGM will make his first official visit to Spring Lodge this date. Meal at 6:00pm. Meal: TBD.
DESCRIPTION:
URL:https://springlodge1174.com/event/03-16-2023-thursday-stated-meeting-for-march-open-portion-starts-at-700pm-closed-portion-starts-at-730pm-ddgm-will-make-his-first-official-visit-to-spring-lodge-this-date-meal-at-600pm-meal/
END:VEVENT
BEGIN:VEVENT
DTSTART;TZID=UTC:20230314T190000
DTEND;TZID=UTC:20230314T210000
DTSTAMP:20260425T105557
CREATED:20230506T062916Z
LAST-MODIFIED:20230506T062916Z
UID:2667-1678820400-1678827600@springlodge1174.com
SUMMARY:03/14/2023 (Tuesday): MM turn in at 7pm. Meal at 6pm. Meal: TBA.
DESCRIPTION:
URL:https://springlodge1174.com/event/03-14-2023-tuesday-mm-turn-in-at-7pm-meal-at-6pm-meal-tba/
END:VEVENT
BEGIN:VEVENT
DTSTART;TZID=UTC:20230225T190000
DTEND;TZID=UTC:20230225T210000
DTSTAMP:20260425T105557
CREATED:20230506T062832Z
LAST-MODIFIED:20230506T062832Z
UID:2665-1677351600-1677358800@springlodge1174.com
SUMMARY:02/25/2023 (Saturday): 11:00am to 6:00pm. Game day at lodge. Bring your family; bring your friends! Br Niver: 713-992-1284\, sirlancelot34@yahoo.com
DESCRIPTION:
URL:https://springlodge1174.com/event/02-25-2023-saturday-1100am-to-600pm-game-day-at-lodge-bring-your-family-bring-your-friends-br-niver-713-992-1284-sirlancelot34yahoo-com/
END:VEVENT
END:VCALENDAR