BEGIN:VCALENDAR
VERSION:2.0
PRODID:-//The Lodge - ECPv6.15.16.1//NONSGML v1.0//EN
CALSCALE:GREGORIAN
METHOD:PUBLISH
X-WR-CALNAME:The Lodge
X-ORIGINAL-URL:https://springlodge1174.com
X-WR-CALDESC:Events for The Lodge
REFRESH-INTERVAL;VALUE=DURATION:PT1H
X-Robots-Tag:noindex
X-PUBLISHED-TTL:PT1H
BEGIN:VTIMEZONE
TZID:America/Chicago
BEGIN:DAYLIGHT
TZOFFSETFROM:-0600
TZOFFSETTO:-0500
TZNAME:CDT
DTSTART:20220313T080000
END:DAYLIGHT
BEGIN:STANDARD
TZOFFSETFROM:-0500
TZOFFSETTO:-0600
TZNAME:CST
DTSTART:20221106T070000
END:STANDARD
BEGIN:DAYLIGHT
TZOFFSETFROM:-0600
TZOFFSETTO:-0500
TZNAME:CDT
DTSTART:20230312T080000
END:DAYLIGHT
BEGIN:STANDARD
TZOFFSETFROM:-0500
TZOFFSETTO:-0600
TZNAME:CST
DTSTART:20231105T070000
END:STANDARD
BEGIN:DAYLIGHT
TZOFFSETFROM:-0600
TZOFFSETTO:-0500
TZNAME:CDT
DTSTART:20240310T080000
END:DAYLIGHT
BEGIN:STANDARD
TZOFFSETFROM:-0500
TZOFFSETTO:-0600
TZNAME:CST
DTSTART:20241103T070000
END:STANDARD
BEGIN:DAYLIGHT
TZOFFSETFROM:-0600
TZOFFSETTO:-0500
TZNAME:CDT
DTSTART:20250309T080000
END:DAYLIGHT
BEGIN:STANDARD
TZOFFSETFROM:-0500
TZOFFSETTO:-0600
TZNAME:CST
DTSTART:20251102T070000
END:STANDARD
END:VTIMEZONE
BEGIN:VTIMEZONE
TZID:UTC
BEGIN:STANDARD
TZOFFSETFROM:+0000
TZOFFSETTO:+0000
TZNAME:UTC
DTSTART:20220101T000000
END:STANDARD
END:VTIMEZONE
BEGIN:VEVENT
DTSTART;TZID=America/Chicago:20240229T180000
DTEND;TZID=America/Chicago:20240229T200000
DTSTAMP:20260425T120838
CREATED:20230911T014550Z
LAST-MODIFIED:20230911T014550Z
UID:3863-1709229600-1709236800@springlodge1174.com
SUMMARY:CHILI COOK-OFF!
DESCRIPTION:Bring your best Chili’s. Winner will receive $100 Amazon Gift Card \nMeal at 6: 00 PM.
URL:https://springlodge1174.com/event/chili-cook-off/
END:VEVENT
BEGIN:VEVENT
DTSTART;TZID=UTC:20240222T180000
DTEND;TZID=UTC:20240222T200000
DTSTAMP:20260425T120838
CREATED:20240107T214230Z
LAST-MODIFIED:20240107T214230Z
UID:4115-1708624800-1708632000@springlodge1174.com
SUMMARY:Called Meeting: MM Degree
DESCRIPTION:Meal: Pork Chop withMushroom cream sauce and sauteed garlic spinach \nMeal 6 PM \nDegree 7 PM
URL:https://springlodge1174.com/event/called-meeting-mm-degree/
END:VEVENT
BEGIN:VEVENT
DTSTART;TZID=UTC:20240220T180000
DTEND;TZID=UTC:20240220T190000
DTSTAMP:20260425T120838
CREATED:20240107T214023Z
LAST-MODIFIED:20240107T214031Z
UID:4113-1708452000-1708455600@springlodge1174.com
SUMMARY:ACTIVITIES/EVENTS RECURRING UPDATE
DESCRIPTION:
URL:https://springlodge1174.com/event/activities-events-recurring-update-3/
END:VEVENT
BEGIN:VEVENT
DTSTART;TZID=UTC:20240215T180000
DTEND;TZID=UTC:20240215T210000
DTSTAMP:20260425T120838
CREATED:20240107T213912Z
LAST-MODIFIED:20240107T213912Z
UID:4111-1708020000-1708030800@springlodge1174.com
SUMMARY:February Stated Meeting
DESCRIPTION:The open portion starts at 7:00 PM. The closed portion starts at 7:30 PM. Meal at 6:00 PM. Meal: Vegetable Ratatouille and Baked Salmon w/ bread roll.
URL:https://springlodge1174.com/event/february-stated-meeting/
END:VEVENT
BEGIN:VEVENT
DTSTART;TZID=America/Chicago:20240213T180000
DTEND;TZID=America/Chicago:20240213T200000
DTSTAMP:20260425T120838
CREATED:20230911T014221Z
LAST-MODIFIED:20240107T213823Z
UID:3860-1707847200-1707854400@springlodge1174.com
SUMMARY:Valentines - Ladies Appriciation Night
DESCRIPTION:We invite you and your loved one to join us for a memorable evening dedicated to celebration and joy. Let’s share the happiness together on this special night! Please bring your spouse\, girlfriend\, or partner. RSVP by February 9th to Brother JW Travis Miller: CP# 936-525-7220; Email: travis.s.miller@outlook.com \nMeal at 6 PM
URL:https://springlodge1174.com/event/valentines-night/
END:VEVENT
BEGIN:VEVENT
DTSTART;TZID=UTC:20240208T180000
DTEND;TZID=UTC:20240208T200000
DTSTAMP:20260425T120838
CREATED:20240107T213711Z
LAST-MODIFIED:20240107T213711Z
UID:4108-1707415200-1707422400@springlodge1174.com
SUMMARY:February Officer Meeting Following Called Meeting MM Degree
DESCRIPTION:February Officer Meeting at 6:30 PM. Expecting Officers/Committee Chair to submit their report to WM and Bro. Secretary via email or hard copy. Following Called Meeting MM Degree at 7 PM. Meal at 6:00 PM. Meal: Baked Lemon Chicken and Asparagus w/garlic bread.
URL:https://springlodge1174.com/event/february-officer-meeting-following-called-meeting-mm-degree/
END:VEVENT
BEGIN:VEVENT
DTSTART;TZID=UTC:20240206T173000
DTEND;TZID=UTC:20240206T193000
DTSTAMP:20260425T120838
CREATED:20240107T213622Z
LAST-MODIFIED:20240205T034853Z
UID:4106-1707240600-1707247800@springlodge1174.com
SUMMARY:SCHOLARSHIP & FUNDRAISING MEETING
DESCRIPTION:Scholarship starts at 5:30 PM & Fundraising Meeting starts at 6 PM. 
URL:https://springlodge1174.com/event/fundraising-recurring-update-following-fc-turn-in/
END:VEVENT
BEGIN:VEVENT
DTSTART;TZID=UTC:20240201T180000
DTEND;TZID=UTC:20240201T200000
DTSTAMP:20260425T120838
CREATED:20240107T213451Z
LAST-MODIFIED:20240107T213451Z
UID:4104-1706810400-1706817600@springlodge1174.com
SUMMARY:Called Meeting: Refresher to how properly vote/DDGM visit process.
DESCRIPTION:Called Meeting: Refresher to how properly vote/DDGM visit process.. The meeting starts at 7:00 PM. Meal at 6:00 PM. Meal: Pork Bistek with Mashed Potatoes and Vegetables. 
URL:https://springlodge1174.com/event/called-meeting-refresher-to-how-properly-vote-ddgm-visit-process/
END:VEVENT
BEGIN:VEVENT
DTSTART;TZID=UTC:20240130T180000
DTEND;TZID=UTC:20240130T190000
DTSTAMP:20260425T120838
CREATED:20240107T213342Z
LAST-MODIFIED:20240107T213342Z
UID:4102-1706637600-1706641200@springlodge1174.com
SUMMARY:Mentorship/Membership Meeting
DESCRIPTION:The meeting starts at 6:00 PM
URL:https://springlodge1174.com/event/mentorship-membership-meeting/
END:VEVENT
BEGIN:VEVENT
DTSTART;TZID=UTC:20240125T180000
DTEND;TZID=UTC:20240125T210000
DTSTAMP:20260425T120838
CREATED:20240107T213257Z
LAST-MODIFIED:20240107T213257Z
UID:4100-1706205600-1706216400@springlodge1174.com
SUMMARY:January Stated Meeting
DESCRIPTION:The open portion starts at 7:00 PM. The closed portion starts at 7:30 PM. Meal at 6:00 PM. Meal: Chicken Adobo and Pork Afritada with Rice.
URL:https://springlodge1174.com/event/january-stated-meeting/
END:VEVENT
BEGIN:VEVENT
DTSTART;TZID=UTC:20240123T183000
DTEND;TZID=UTC:20240123T190000
DTSTAMP:20260425T120838
CREATED:20240107T213213Z
LAST-MODIFIED:20240107T213213Z
UID:4098-1706034600-1706036400@springlodge1174.com
SUMMARY:January Officer Meeting
DESCRIPTION:at 6:30 PM. Expecting Officers/Committee Chair to submit their report to WM and Bro. Secretary via email or hard copy.
URL:https://springlodge1174.com/event/january-officer-meeting/
END:VEVENT
BEGIN:VEVENT
DTSTART;VALUE=DATE:20240118
DTEND;VALUE=DATE:20240121
DTSTAMP:20260425T120838
CREATED:20240107T213105Z
LAST-MODIFIED:20240107T213121Z
UID:4096-1705536000-1705795199@springlodge1174.com
SUMMARY:2024 GLOTX ANCOM - Lodge is Dark
DESCRIPTION:
URL:https://springlodge1174.com/event/2024-glotx-ancom-lodge-is-dark/
END:VEVENT
BEGIN:VEVENT
DTSTART;TZID=UTC:20240116T180000
DTEND;TZID=UTC:20240116T190000
DTSTAMP:20260425T120838
CREATED:20240107T212857Z
LAST-MODIFIED:20240107T212857Z
UID:4092-1705428000-1705431600@springlodge1174.com
SUMMARY:Scholarship Committee Meeting
DESCRIPTION:The meeting starts at 6:00 PM.
URL:https://springlodge1174.com/event/scholarship-committee-meeting-2/
END:VEVENT
BEGIN:VEVENT
DTSTART;TZID=America/Chicago:20240111T180000
DTEND;TZID=America/Chicago:20240111T200000
DTSTAMP:20260425T120838
CREATED:20240107T212753Z
LAST-MODIFIED:20240107T212753Z
UID:4090-1704996000-1705003200@springlodge1174.com
SUMMARY:FC Turn In Following MM Degree
DESCRIPTION:The called meeting Starts at 7:00 PM. Meal at 6 PM. Meal: Catfish and Fried Rice
URL:https://springlodge1174.com/event/fc-turn-in-following-mm-degree/
END:VEVENT
BEGIN:VEVENT
DTSTART;TZID=UTC:20240109T180000
DTEND;TZID=UTC:20240109T190000
DTSTAMP:20260425T120838
CREATED:20240107T212959Z
LAST-MODIFIED:20240107T212959Z
UID:4094-1704823200-1704826800@springlodge1174.com
SUMMARY:Study Night and MM Degree Practice
DESCRIPTION:
URL:https://springlodge1174.com/event/study-night-and-mm-degree-practice/
END:VEVENT
BEGIN:VEVENT
DTSTART;TZID=America/Chicago:20240104T183000
DTEND;TZID=America/Chicago:20240104T193000
DTSTAMP:20260425T120838
CREATED:20231206T201853Z
LAST-MODIFIED:20231206T201853Z
UID:3963-1704393000-1704396600@springlodge1174.com
SUMMARY:Fundraising & Activities/Events Monthly Recurring Meeting
DESCRIPTION:Fundraising & Activities/Events Monthly Recurring Meeting. The meeting starts at 6:00 PM. Meal: Blackened Tilapia w/Cabbage\, Bacon\, Jalapeno.
URL:https://springlodge1174.com/event/fundraising-activities-events-monthly-recurring-meeting/
END:VEVENT
BEGIN:VEVENT
DTSTART;TZID=America/Chicago:20231230T080000
DTEND;TZID=America/Chicago:20231231T170000
DTSTAMP:20260425T120838
CREATED:20231029T161931Z
LAST-MODIFIED:20231029T161931Z
UID:3928-1703923200-1704042000@springlodge1174.com
SUMMARY:Lodge Parking Event - OTS Home For The Holidays
DESCRIPTION:Weekends Parking from 8am – 4pm. An hour or two of your help is much appreciated.
URL:https://springlodge1174.com/event/lodge-parking-event-ots-home-for-the-holidays-6/
END:VEVENT
BEGIN:VEVENT
DTSTART;VALUE=DATE:20231228
DTEND;VALUE=DATE:20231229
DTSTAMP:20260425T120838
CREATED:20231206T200916Z
LAST-MODIFIED:20231206T200916Z
UID:3961-1703721600-1703807999@springlodge1174.com
SUMMARY:LODGE IS DARK
DESCRIPTION:
URL:https://springlodge1174.com/event/lodge-is-dark-2/
END:VEVENT
BEGIN:VEVENT
DTSTART;VALUE=DATE:20231226
DTEND;VALUE=DATE:20231227
DTSTAMP:20260425T120838
CREATED:20231206T200840Z
LAST-MODIFIED:20231206T200840Z
UID:3959-1703548800-1703635199@springlodge1174.com
SUMMARY:LODGE IS DARK
DESCRIPTION:
URL:https://springlodge1174.com/event/lodge-is-dark/
END:VEVENT
BEGIN:VEVENT
DTSTART;TZID=America/Chicago:20231221T180000
DTEND;TZID=America/Chicago:20231221T200000
DTSTAMP:20260425T120838
CREATED:20231206T200651Z
LAST-MODIFIED:20231206T200651Z
UID:3957-1703181600-1703188800@springlodge1174.com
SUMMARY:December Stated Meeting
DESCRIPTION:6 PM MEAL\n7 PM STATED MEETING
URL:https://springlodge1174.com/event/december-stated-meeting/
END:VEVENT
BEGIN:VEVENT
DTSTART;TZID=America/Chicago:20231219T180000
DTEND;TZID=America/Chicago:20231219T190000
DTSTAMP:20260425T120838
CREATED:20231206T200545Z
LAST-MODIFIED:20231206T200545Z
UID:3955-1703008800-1703012400@springlodge1174.com
SUMMARY:December Officer Meeting
DESCRIPTION:Meeting Start 6 PM. Officer & Committee Chair to submit report via email or hard copy.
URL:https://springlodge1174.com/event/december-officer-meeting/
END:VEVENT
BEGIN:VEVENT
DTSTART;TZID=America/Chicago:20231216T080000
DTEND;TZID=America/Chicago:20231217T170000
DTSTAMP:20260425T120838
CREATED:20231029T161820Z
LAST-MODIFIED:20231029T161820Z
UID:3926-1702713600-1702832400@springlodge1174.com
SUMMARY:Lodge Parking Event - OTS Home For The Holidays
DESCRIPTION:Weekends Parking from 8am – 4pm. An hour or two of your help is much appreciated.
URL:https://springlodge1174.com/event/lodge-parking-event-ots-home-for-the-holidays-5/
END:VEVENT
BEGIN:VEVENT
DTSTART;TZID=America/Chicago:20231214T180000
DTEND;TZID=America/Chicago:20231214T190000
DTSTAMP:20260425T120838
CREATED:20231206T200359Z
LAST-MODIFIED:20231206T200359Z
UID:3953-1702576800-1702580400@springlodge1174.com
SUMMARY:FC DEGREE
DESCRIPTION:6 PM MEAL\n7 PM CALLED MEETING
URL:https://springlodge1174.com/event/fc-degree/
END:VEVENT
BEGIN:VEVENT
DTSTART;TZID=America/Chicago:20231209T170000
DTEND;TZID=America/Chicago:20231209T230000
DTSTAMP:20260425T120838
CREATED:20230911T013411Z
LAST-MODIFIED:20230924T155943Z
UID:3856-1702141200-1702162800@springlodge1174.com
SUMMARY:Spring Lodge Christmas Party/Auction
DESCRIPTION:Spring Lodge Xmas Party/Auction:\nDate: December 9\, 2023\nPlace: VFW facility at 1303 W. Semands\, Conroe\nStart Time: 5:00 PM
URL:https://springlodge1174.com/event/spring-lodge-xmas-party-auction/
END:VEVENT
BEGIN:VEVENT
DTSTART;TZID=America/Chicago:20231209T080000
DTEND;TZID=America/Chicago:20231210T170000
DTSTAMP:20260425T120838
CREATED:20231029T161730Z
LAST-MODIFIED:20231029T161730Z
UID:3924-1702108800-1702227600@springlodge1174.com
SUMMARY:Lodge Parking Event - OTS Home For The Holidays
DESCRIPTION:Weekends Parking from 8am – 4pm. An hour or two of your help is much appreciated.
URL:https://springlodge1174.com/event/lodge-parking-event-ots-home-for-the-holidays-4/
END:VEVENT
BEGIN:VEVENT
DTSTART;TZID=America/Chicago:20231207T180000
DTEND;TZID=America/Chicago:20231207T190000
DTSTAMP:20260425T120838
CREATED:20231206T200135Z
LAST-MODIFIED:20231206T200135Z
UID:3950-1701972000-1701975600@springlodge1174.com
SUMMARY:EA Turn-In Followed By FC Degree
DESCRIPTION:6 PM MEAL\n7 PM CALLED MEETING
URL:https://springlodge1174.com/event/ea-turn-in-followed-by-fc-degree/
END:VEVENT
BEGIN:VEVENT
DTSTART;TZID=America/Chicago:20231202T080000
DTEND;TZID=America/Chicago:20231203T170000
DTSTAMP:20260425T120838
CREATED:20231029T161636Z
LAST-MODIFIED:20231029T161636Z
UID:3922-1701504000-1701622800@springlodge1174.com
SUMMARY:Lodge Parking Event - OTS Home For The Holidays
DESCRIPTION:Weekends Parking from 8am – 4pm. An hour or two of your help is much appreciated.
URL:https://springlodge1174.com/event/lodge-parking-event-ots-home-for-the-holidays-3/
END:VEVENT
BEGIN:VEVENT
DTSTART;TZID=America/Chicago:20231130T180000
DTEND;TZID=America/Chicago:20231130T200000
DTSTAMP:20260425T120838
CREATED:20231022T215729Z
LAST-MODIFIED:20231022T215729Z
UID:3913-1701367200-1701374400@springlodge1174.com
SUMMARY:Entered Apprentice Degree
DESCRIPTION:The called meeting Starts at 7:00 PM. Meal at 6 PM. Meal: Filipino Food.
URL:https://springlodge1174.com/event/entered-apprentice-degree-2/
END:VEVENT
BEGIN:VEVENT
DTSTART;TZID=America/Chicago:20231125T080000
DTEND;TZID=America/Chicago:20231126T170000
DTSTAMP:20260425T120838
CREATED:20231029T161535Z
LAST-MODIFIED:20231029T161535Z
UID:3920-1700899200-1701018000@springlodge1174.com
SUMMARY:Lodge Parking Event - OTS Home For The Holidays
DESCRIPTION:Weekends Parking from 8am – 4pm. An hour or two of your help is much appreciated.
URL:https://springlodge1174.com/event/lodge-parking-event-ots-home-for-the-holidays-2/
END:VEVENT
BEGIN:VEVENT
DTSTART;TZID=America/Chicago:20231125T060000
DTEND;TZID=America/Chicago:20231125T093000
DTSTAMP:20260425T120838
CREATED:20231022T215605Z
LAST-MODIFIED:20231022T215605Z
UID:3911-1700892000-1700904600@springlodge1174.com
SUMMARY:Breakfast for the Homeless
DESCRIPTION:Be at the Lodge by 6AM. 8:30 AM to serve the Homeless
URL:https://springlodge1174.com/event/breakfast-for-the-homeless-2/
END:VEVENT
END:VCALENDAR