BEGIN:VCALENDAR
VERSION:2.0
PRODID:-//The Lodge - ECPv6.15.16.1//NONSGML v1.0//EN
CALSCALE:GREGORIAN
METHOD:PUBLISH
X-ORIGINAL-URL:https://springlodge1174.com
X-WR-CALDESC:Events for The Lodge
REFRESH-INTERVAL;VALUE=DURATION:PT1H
X-Robots-Tag:noindex
X-PUBLISHED-TTL:PT1H
BEGIN:VTIMEZONE
TZID:America/Chicago
BEGIN:DAYLIGHT
TZOFFSETFROM:-0600
TZOFFSETTO:-0500
TZNAME:CDT
DTSTART:20250309T080000
END:DAYLIGHT
BEGIN:STANDARD
TZOFFSETFROM:-0500
TZOFFSETTO:-0600
TZNAME:CST
DTSTART:20251102T070000
END:STANDARD
BEGIN:DAYLIGHT
TZOFFSETFROM:-0600
TZOFFSETTO:-0500
TZNAME:CDT
DTSTART:20260308T080000
END:DAYLIGHT
BEGIN:STANDARD
TZOFFSETFROM:-0500
TZOFFSETTO:-0600
TZNAME:CST
DTSTART:20261101T070000
END:STANDARD
BEGIN:DAYLIGHT
TZOFFSETFROM:-0600
TZOFFSETTO:-0500
TZNAME:CDT
DTSTART:20270314T080000
END:DAYLIGHT
BEGIN:STANDARD
TZOFFSETFROM:-0500
TZOFFSETTO:-0600
TZNAME:CST
DTSTART:20271107T070000
END:STANDARD
END:VTIMEZONE
BEGIN:VTIMEZONE
TZID:UTC
BEGIN:STANDARD
TZOFFSETFROM:+0000
TZOFFSETTO:+0000
TZNAME:UTC
DTSTART:20260101T000000
END:STANDARD
END:VTIMEZONE
BEGIN:VEVENT
DTSTART;TZID=America/Chicago:20260507T170000
DTEND;TZID=America/Chicago:20260507T190000
DTSTAMP:20260424T001737
CREATED:20260217T203608Z
LAST-MODIFIED:20260217T203608Z
UID:5140-1778173200-1778180400@springlodge1174.com
SUMMARY:Veteran and First Responder Night
DESCRIPTION:
URL:https://springlodge1174.com/event/veteran-and-first-responder-night/
END:VEVENT
BEGIN:VEVENT
DTSTART;TZID=America/Chicago:20260526T170000
DTEND;TZID=America/Chicago:20260526T190000
DTSTAMP:20260424T001737
CREATED:20260217T203701Z
LAST-MODIFIED:20260217T203916Z
UID:5142-1779814800-1779822000@springlodge1174.com
SUMMARY:GOLDEN TROWEL AWARDS
DESCRIPTION:6 pm dinner
URL:https://springlodge1174.com/event/golden-trowel-awards-2/
END:VEVENT
BEGIN:VEVENT
DTSTART;TZID=America/Chicago:20260606T060000
DTEND;TZID=America/Chicago:20260606T100000
DTSTAMP:20260424T001737
CREATED:20260217T203801Z
LAST-MODIFIED:20260217T203801Z
UID:5144-1780725600-1780740000@springlodge1174.com
SUMMARY:HOMELESS FEEDING AT LEWIS PARK IN CONROE
DESCRIPTION:6am
URL:https://springlodge1174.com/event/homeless-feeding-at-lewis-park-in-conroe/
END:VEVENT
BEGIN:VEVENT
DTSTART;TZID=UTC:20270206T070000
DTEND;TZID=UTC:20270206T150000
DTSTAMP:20260424T001737
CREATED:20260217T200821Z
LAST-MODIFIED:20260217T200821Z
UID:5125-1801897200-1801926000@springlodge1174.com
SUMMARY:Forums/Exams at Spring Lodge No. 1174
DESCRIPTION:
URL:https://springlodge1174.com/event/forums-exams-at-spring-lodge-no-1174-2/
END:VEVENT
END:VCALENDAR