BEGIN:VCALENDAR
VERSION:2.0
PRODID:-//The Lodge - ECPv6.15.16.1//NONSGML v1.0//EN
CALSCALE:GREGORIAN
METHOD:PUBLISH
X-WR-CALNAME:The Lodge
X-ORIGINAL-URL:https://springlodge1174.com
X-WR-CALDESC:Events for The Lodge
REFRESH-INTERVAL;VALUE=DURATION:PT1H
X-Robots-Tag:noindex
X-PUBLISHED-TTL:PT1H
BEGIN:VTIMEZONE
TZID:UTC
BEGIN:STANDARD
TZOFFSETFROM:+0000
TZOFFSETTO:+0000
TZNAME:UTC
DTSTART:20260101T000000
END:STANDARD
END:VTIMEZONE
BEGIN:VEVENT
DTSTART;TZID=UTC:20270206T070000
DTEND;TZID=UTC:20270206T150000
DTSTAMP:20260424T001140
CREATED:20260217T200821Z
LAST-MODIFIED:20260217T200821Z
UID:5125-1801897200-1801926000@springlodge1174.com
SUMMARY:Forums/Exams at Spring Lodge No. 1174
DESCRIPTION:
URL:https://springlodge1174.com/event/forums-exams-at-spring-lodge-no-1174-2/
END:VEVENT
END:VCALENDAR