BEGIN:VCALENDAR
VERSION:2.0
PRODID:-//The Lodge - ECPv6.15.16.1//NONSGML v1.0//EN
CALSCALE:GREGORIAN
METHOD:PUBLISH
X-WR-CALNAME:The Lodge
X-ORIGINAL-URL:https://springlodge1174.com
X-WR-CALDESC:Events for The Lodge
REFRESH-INTERVAL;VALUE=DURATION:PT1H
X-Robots-Tag:noindex
X-PUBLISHED-TTL:PT1H
BEGIN:VTIMEZONE
TZID:UTC
BEGIN:STANDARD
TZOFFSETFROM:+0000
TZOFFSETTO:+0000
TZNAME:UTC
DTSTART:20230101T000000
END:STANDARD
END:VTIMEZONE
BEGIN:VEVENT
DTSTART;TZID=UTC:20240321T180000
DTEND;TZID=UTC:20240321T210000
DTSTAMP:20260425T215713
CREATED:20240107T214514Z
LAST-MODIFIED:20240107T214514Z
UID:4119-1711044000-1711054800@springlodge1174.com
SUMMARY:March Stated Meeting
DESCRIPTION:Stated Meeting. The open portion starts at 7:00 PM. The closed portion starts at 7:30 PM. Meal at 6:00 PM
URL:https://springlodge1174.com/event/march-stated-meeting/
END:VEVENT
END:VCALENDAR