BEGIN:VCALENDAR
VERSION:2.0
PRODID:-//The Lodge - ECPv6.15.16.1//NONSGML v1.0//EN
CALSCALE:GREGORIAN
METHOD:PUBLISH
X-WR-CALNAME:The Lodge
X-ORIGINAL-URL:https://springlodge1174.com
X-WR-CALDESC:Events for The Lodge
REFRESH-INTERVAL;VALUE=DURATION:PT1H
X-Robots-Tag:noindex
X-PUBLISHED-TTL:PT1H
BEGIN:VTIMEZONE
TZID:UTC
BEGIN:STANDARD
TZOFFSETFROM:+0000
TZOFFSETTO:+0000
TZNAME:UTC
DTSTART:20230101T000000
END:STANDARD
END:VTIMEZONE
BEGIN:VEVENT
DTSTART;TZID=UTC:20240201T180000
DTEND;TZID=UTC:20240201T200000
DTSTAMP:20260425T233216
CREATED:20240107T213451Z
LAST-MODIFIED:20240107T213451Z
UID:4104-1706810400-1706817600@springlodge1174.com
SUMMARY:Called Meeting: Refresher to how properly vote/DDGM visit process.
DESCRIPTION:Called Meeting: Refresher to how properly vote/DDGM visit process.. The meeting starts at 7:00 PM. Meal at 6:00 PM. Meal: Pork Bistek with Mashed Potatoes and Vegetables. 
URL:https://springlodge1174.com/event/called-meeting-refresher-to-how-properly-vote-ddgm-visit-process/
END:VEVENT
END:VCALENDAR