BEGIN:VCALENDAR
VERSION:2.0
PRODID:-//The Lodge - ECPv6.15.16.1//NONSGML v1.0//EN
CALSCALE:GREGORIAN
METHOD:PUBLISH
X-ORIGINAL-URL:https://springlodge1174.com
X-WR-CALDESC:Events for The Lodge
REFRESH-INTERVAL;VALUE=DURATION:PT1H
X-Robots-Tag:noindex
X-PUBLISHED-TTL:PT1H
BEGIN:VTIMEZONE
TZID:UTC
BEGIN:STANDARD
TZOFFSETFROM:+0000
TZOFFSETTO:+0000
TZNAME:UTC
DTSTART:20230101T000000
END:STANDARD
END:VTIMEZONE
BEGIN:VEVENT
DTSTART;TZID=UTC:20240116T180000
DTEND;TZID=UTC:20240116T190000
DTSTAMP:20260426T010236
CREATED:20240107T212857Z
LAST-MODIFIED:20240107T212857Z
UID:4092-1705428000-1705431600@springlodge1174.com
SUMMARY:Scholarship Committee Meeting
DESCRIPTION:The meeting starts at 6:00 PM.
URL:https://springlodge1174.com/event/scholarship-committee-meeting-2/
END:VEVENT
END:VCALENDAR